BEGIN:VCALENDAR
VERSION:2.0
PRODID:-//ChamberMaster//Event Calendar 2.0//EN
METHOD:PUBLISH
X-PUBLISHED-TTL:P3D
REFRESH-INTERVAL:P3D
CALSCALE:GREGORIAN
BEGIN:VEVENT
DTSTART;VALUE=DATE:20201110
DTEND;VALUE=DATE:20201111
TRANSP:TRANSPARENT
X-MICROSOFT-CDO-ALLDAYEVENT:TRUE
SUMMARY:2021 Virtual Master Gardener Training Class Pre-Registration
DESCRIPTION:A new\, virtual Master Gardener Training Class will be offered beginning in January of 2021. The class will differ from the current online class in that lessons will be synchronous. This means you will need to be virtually present during class meeting times. Tests and quizzes will be also be administered online. Please note this course is the first step to becoming a Certified South Carolina Master Gardener and enrollment in the class is a commitment to performing volunteer service.  More information about initial certification and annual requirements can be found on the SC Master Gardener website.\nThe 2021 Virtual South Carolina Master Gardener Training Class will begin on Wednesday\, January 13\, 2021. Classes will meet online each Wednesday morning from 9:00 AM to 12:30 PM for 16 weeks. Chat help will be available each week from 8:30-9:00 AM. The final exam will be on April 28\, 2021.\n\nDue to the popularity of the South Carolina Master Gardener program and limited capacity\, registration for the 2021 Virtual South Carolina Master Gardener Training Class is a two-step process. First\, interested individuals must complete this pre-registration form by November 13\, 2020. Next\, a Master Gardener representative will contact interested individuals via telephone to explain the program\, answer any questions or concerns\, and verify a desire to proceed with registering for the class.\n\nThe training course fee is $300.00. Payment will be collected during the second step of the registration process\, after Master Gardener representatives have contacted interested individuals. Please note that no refunds will be issued once the course begins.
X-ALT-DESC;FMTTYPE=text/html:<span style="font-size:11pt"><span style="font-size:12.0pt">A new\, <strong>virtual</strong> Master Gardener Training Class will be offered beginning in January of 2021. The class will differ from the current online class in that lessons will be synchronous. This means you will need to be virtually present during class meeting times. Tests and quizzes will be also be administered online. Please note this course is the first step to becoming a Certified South Carolina Master Gardener and enrollment in the class is a commitment to performing volunteer service.&nbsp\; More information about initial certification and annual requirements can be found on the </span><a href="https://www.clemson.edu/extension/mg/history.html" style="text-decoration: underline\;"><span style="font-size:12.0pt">SC Master Gardener website</span></a><span style="font-size:12.0pt">.</span></span>\n<p><span style="font-size:11pt"><span style="font-size:12.0pt">The 2021 Virtual South Carolina Master Gardener Training Class will begin on Wednesday\, January 13\, 2021. Classes will meet online each Wednesday morning from 9:00 AM to 12:30 PM for 16 weeks. Chat help will be available each week from 8:30-9:00 AM. The final exam will be on April 28\, 2021.</span></span></p>\n\n<p><span style="font-size:11pt"><span style="font-size:12.0pt">Due to the popularity of the South Carolina Master Gardener program and limited capacity\, registration for the 2021 Virtual South Carolina Master Gardener Training Class is a two-step process. <strong>First\, interested individuals must complete this <a href="https://forms.gle/ahoy4WUBTrpW8ZkM6">pre-registration form</a> by November 13\, 2020</strong>. Next\, a Master Gardener representative will contact interested individuals via telephone to explain the program\, answer any questions or concerns\, and verify a desire to proceed with registering for the class.</span></span></p>\n\n<p><span style="font-size:11pt"><span style="font-size:12.0pt">The training course fee is $300.00. Payment will be collected during the second step of the registration process\, after Master Gardener representatives have contacted interested individuals. Please note that no refunds will be issued once the course begins.</span></span></p>\n
LOCATION:Virtual
UID:e.2045.1002
SEQUENCE:3
DTSTAMP:20260424T091740Z
URL:https://www.hartsvillechamber.org/events/details/2021-virtual-master-gardener-training-class-pre-registration-11-10-2020-1002
END:VEVENT

END:VCALENDAR
