BEGIN:VCALENDAR
VERSION:2.0
PRODID:-//ChamberMaster//Event Calendar 2.0//EN
METHOD:PUBLISH
X-PUBLISHED-TTL:P3D
REFRESH-INTERVAL:P3D
CALSCALE:GREGORIAN
BEGIN:VEVENT
DTSTART:20220526T213000Z
DTEND:20220526T233000Z
X-MICROSOFT-CDO-ALLDAYEVENT:FALSE
SUMMARY:2022 Annual Membership Banquet presented by Carolina Bank
DESCRIPTION:Our 101st Annual Membership Banquet will be held at the Hartsville Country Club and will include a networking social\, a delicious meal\, and awards ceremony. We have an exciting presenting sponsor commitment that will be announced at our event! At this event\, the chamber recaps the past year's plan of action\; outline the new year's plan\; recognizes outgoing board members\, and incoming board members\; and presents awards to outstanding community leaders. This year's awards include Will Woodham Business Person of the Year and the Rotary Club Citizen of the Year.
X-ALT-DESC;FMTTYPE=text/html:<span style="color: rgb(29\, 33\, 41)\; font-family: &quot\;Helvetica Neue&quot\;\, Helvetica\, Arial\, sans-serif\; font-size: 12px\; white-space: pre-wrap\;">Our 101st Annual Membership Banquet will be held at the Hartsville Country Club and will include a networking social\, a delicious meal\, and awards ceremony. We have an exciting presenting sponsor commitment that will be announced at our event! At this event\, the chamber recaps the past year&#39\;s plan of action\; outline the new year&#39\;s plan\; recognizes outgoing board members\, and incoming board members\; and presents awards to outstanding community leaders. This year&#39\;s awards include Will Woodham Business Person of the Year and the Rotary Club Citizen of the Year.</span>
LOCATION:Hartsville Country Club 116 Golf Course Rd Hartsville\, SC 29550
UID:e.2045.1158
SEQUENCE:3
DTSTAMP:20260425T173211Z
URL:https://www.hartsvillechamber.org/events/details/2022-annual-membership-banquet-presented-by-carolina-bank-1158
END:VEVENT

END:VCALENDAR
