BEGIN:VCALENDAR
VERSION:2.0
PRODID:-//ChamberMaster//Event Calendar 2.0//EN
METHOD:PUBLISH
X-PUBLISHED-TTL:P3D
REFRESH-INTERVAL:P3D
CALSCALE:GREGORIAN
BEGIN:VEVENT
DTSTART:20240418T213000Z
DTEND:20240418T233000Z
X-MICROSOFT-CDO-ALLDAYEVENT:FALSE
SUMMARY:2024- 103rd Annual Membership Celebration presented by Carolina Pines Regional Medical Center
DESCRIPTION:Our 103rd Annual Membership Banquet will be held at Drengaelen House at Coker University and will include a networking social\, a delicious meal\, and awards ceremony. At this event\, the chamber recaps the past year's plan of action\, outlines the new year's plan\, and presents awards to outstanding community leaders. This year's awards include Will Woodham Business Person of the Year and Rotary Club's Citizen of the Year.
X-ALT-DESC;FMTTYPE=text/html:<span style="caret-color: rgb(29\, 33\, 41)\; color: rgb(29\, 33\, 41)\; font-family: &quot\;Helvetica Neue&quot\;\, Helvetica\, Arial\, sans-serif\; font-size: 12px\; white-space: pre-wrap\;">Our 103rd Annual Membership Banquet will be held at Drengaelen House at Coker University and will include a networking social\, a delicious meal\, and awards ceremony. </span><span style="font-size: 9pt\; font-family: &quot\;Helvetica Neue&quot\;\; color: rgb(29\, 33\, 41)\; background-image: none\; background-position: 0% 0%\; background-size: auto\; background-repeat: repeat\; background-attachment: scroll\; background-origin: padding-box\; background-clip: border-box\;">At this event\, the chamber recaps the past year&#39\;s plan of action\, outlines the new year&#39\;s plan\, and presents awards to outstanding community leaders.&nbsp\;</span><span style="caret-color: rgb(29\, 33\, 41)\; color: rgb(29\, 33\, 41)\; font-family: &quot\;Helvetica Neue&quot\;\, Helvetica\, Arial\, sans-serif\; font-size: 12px\; white-space: pre-wrap\;">This year&#39\;s awards include Will Woodham Business Person of the Year and Rotary Club&#39\;s Citizen of the Year.</span>
LOCATION:Drengaelen House at Coker University 210 E Home Ave Hartsville\, SC 29550
UID:e.2045.2511
SEQUENCE:3
DTSTAMP:20260425T160108Z
URL:https://www.hartsvillechamber.org/events/details/2024-103rd-annual-membership-celebration-presented-by-carolina-pines-regional-medical-center-2511
END:VEVENT

END:VCALENDAR
