BEGIN:VCALENDAR
VERSION:2.0
PRODID:-//ChamberMaster//Event Calendar 2.0//EN
METHOD:PUBLISH
X-PUBLISHED-TTL:P3D
REFRESH-INTERVAL:P3D
CALSCALE:GREGORIAN
BEGIN:VEVENT
DTSTART:20241116T180000Z
DTEND:20241116T220000Z
X-MICROSOFT-CDO-ALLDAYEVENT:FALSE
SUMMARY:2024 Butler Heritage Foundation Art Festival
DESCRIPTION:The art festival is intended to give art students and professional artists the opportunity to display their works\, ideas\, concepts and to introduce varies style of artistic works to underserve communities and our Pee Dee Area.
X-ALT-DESC;FMTTYPE=text/html:The art festival is intended to give art students and professional artists the opportunity to display their works\, ideas\, concepts and to introduce varies style of artistic works to underserve communities and our Pee Dee Area.
LOCATION:Butler Heritage Foundation Gymnatorium 1103 S. 6th Street Hartsville\, SC 29550
UID:e.2045.3064
SEQUENCE:3
DTSTAMP:20260425T031940Z
URL:https://www.hartsvillechamber.org/events/details/2024-butler-heritage-foundation-art-festival-3064
END:VEVENT

END:VCALENDAR
