BEGIN:VCALENDAR
VERSION:2.0
PRODID:-//ChamberMaster//Event Calendar 2.0//EN
METHOD:PUBLISH
X-PUBLISHED-TTL:P3D
REFRESH-INTERVAL:P3D
CALSCALE:GREGORIAN
BEGIN:VEVENT
DTSTART;VALUE=DATE:20240502
DTEND;VALUE=DATE:20240503
TRANSP:TRANSPARENT
X-MICROSOFT-CDO-ALLDAYEVENT:TRUE
SUMMARY:2024 Spring Hartsville Community Golf Classic presented by Sully Blair State Farm Hartsville
DESCRIPTION:The 24th Annual Hartsville Community Golf Classic gives businesses an opportunity to sponsor teams who play in a 4-player captain's choice tournament in a fun and competitive atmosphere. A delicious lunch will be served during play. Prizes will be awarded to the winners.
X-ALT-DESC;FMTTYPE=text/html:The 24th Annual Hartsville Community Golf Classic gives businesses an opportunity to sponsor teams who play in a 4-player captain&#39\;s choice tournament in a fun and competitive atmosphere. A delicious lunch will be served during play. Prizes will be awarded to the winners.&nbsp\;
LOCATION:Hartsville Country Club 116 Golf Course Rd Hartsville SC 29550
UID:e.2045.2450
SEQUENCE:3
DTSTAMP:20260425T142710Z
URL:https://www.hartsvillechamber.org/events/details/2024-spring-hartsville-community-golf-classic-presented-by-sully-blair-state-farm-hartsville-2450
END:VEVENT

END:VCALENDAR
