BEGIN:VCALENDAR
VERSION:2.0
PRODID:-//ChamberMaster//Event Calendar 2.0//EN
METHOD:PUBLISH
X-PUBLISHED-TTL:P3D
REFRESH-INTERVAL:P3D
CALSCALE:GREGORIAN
BEGIN:VEVENT
DTSTART:20240305T133000Z
DTEND:20240305T150000Z
X-MICROSOFT-CDO-ALLDAYEVENT:FALSE
SUMMARY:2024 State of Education Breakfast presented by CareSouth Carolina
DESCRIPTION:2024 State of Education Breakfast presented by CareSouth Carolina \n\n\n\nThe breakfast will feature an update from Dr. Tim Newman\, Darlington County School District\; Dr. Natalie Harder\, Coker University\; Sheryl Love\, Florence-Darlington Technical College\; and Danny Dorsel\, SC Governor's School for Science and Mathematics.
X-ALT-DESC;FMTTYPE=text/html:2024 State of Education Breakfast presented by CareSouth Carolina&nbsp\;<br />\n<br />\n<span style="caret-color: rgb(51\, 51\, 51)\; font-family: Calibri\, sans-serif\; font-size: 14.6667px\; text-size-adjust: auto\;">The breakfast will feature an update from Dr.&nbsp\;</span><span style="caret-color: rgb(51\, 51\, 51)\; font-family: Calibri\, sans-serif\; font-size: 14.6667px\; text-size-adjust: auto\; border: 1pt none windowtext\; padding: 0in\;">Tim</span><span style="caret-color: rgb(51\, 51\, 51)\; font-family: Calibri\, sans-serif\; font-size: 14.6667px\; text-size-adjust: auto\;">&nbsp\;</span><span style="caret-color: rgb(51\, 51\, 51)\; font-family: Calibri\, sans-serif\; font-size: 14.6667px\; text-size-adjust: auto\; border: 1pt none windowtext\; padding: 0in\;">Newman</span><span style="caret-color: rgb(51\, 51\, 51)\; font-family: Calibri\, sans-serif\; font-size: 14.6667px\; text-size-adjust: auto\;">\, Darlington County School District\; Dr. Natalie Harder\, Coker University\; Sheryl Love\, Florence-Darlington Technical College\; and Danny Dorsel\, SC Governor&#39\;s School for Science and Mathematics.</span>
LOCATION:Hartsville Country Club 116 Golf Course Rd Hartsville SC 29550
UID:e.2045.2499
SEQUENCE:3
DTSTAMP:20260425T173148Z
URL:https://www.hartsvillechamber.org/events/details/2024-state-of-education-breakfast-presented-by-caresouth-carolina-2499
END:VEVENT

END:VCALENDAR
