BEGIN:VCALENDAR
VERSION:2.0
PRODID:-//ChamberMaster//Event Calendar 2.0//EN
METHOD:PUBLISH
X-PUBLISHED-TTL:P3D
REFRESH-INTERVAL:P3D
CALSCALE:GREGORIAN
BEGIN:VEVENT
DTSTART:20240521T123000Z
DTEND:20240521T140000Z
X-MICROSOFT-CDO-ALLDAYEVENT:FALSE
SUMMARY:2024- State of Power Breakfast presented by Duke Energy
DESCRIPTION:We are excited to announce a new event we are hosting this year\, State of Power Breakfast presented by Duke Energy. Breakfast is sponsored by Kelly's Electrical Service. This event will be on Tuesday\, May 21 from 8:30-10 at the Hartsville Country Club and will include a breakfast buffet. We are so fortunate to have the following agenda topics to cover- current state of affairs\, utilities? roles in today?s environment\, a regional perspective of the importance of power\, and relating the role of utilities to the economic development process as it pertains to prospective businesses. \n\nJoining us as speakers\, we have Jay Oliver\, Managing Director\, Grid Systems Integration at Duke Energy\, Ben Fleming\, Chief Operating Officer\, MPD Electric Cooperative\, and Jeff McKay\, the executive director of the North Eastern Strategic Alliance (NESA)- a regional economic development alliance.
X-ALT-DESC;FMTTYPE=text/html:<p class="xmsonormal" style="margin: 0in\; font-size: 11pt\; font-family: Calibri\, sans-serif\; caret-color: rgb(0\, 0\, 0)\; color: rgb(0\, 0\, 0)\;"><span style="font-size: 14pt\;">We are excited to announce a new event we are hosting this year\, State of Power Breakfast presented by Duke Energy.&nbsp\;Breakfast is sponsored by Kelly&#39\;s Electrical Service. This event will be on Tuesday\, May 21 from 8:30-10 at the Hartsville Country Club and will include a breakfast buffet. We are so fortunate to have the following agenda topics to cover- current state of affairs\, utilities? roles in today?s environment\, a regional perspective of the importance of power\, and&nbsp\;relating the role of utilities to the economic development process as it pertains to prospective businesses.&nbsp\;</span></p>\n\n<p class="xmsonormal" style="margin: 0in\; font-size: 11pt\; font-family: Calibri\, sans-serif\; caret-color: rgb(0\, 0\, 0)\; color: rgb(0\, 0\, 0)\;"><span style="font-size: 14pt\;">Joining us as speakers\, we have&nbsp\;<b>Jay Oliver\,</b>&nbsp\;Managing Director\, Grid Systems Integration at&nbsp\;<b>Duke Energy</b>\,&nbsp\;<b>Ben Fleming</b>\, Chief Operating Officer\,&nbsp\;<b>MPD Electric Cooperative</b>\, and&nbsp\;<b>Jeff McKay</b>\, the executive director of the&nbsp\;<b>North Eastern Strategic Alliance (NESA)-&nbsp\;</b>a regional economic development alliance.</span></p>\n
LOCATION:Hartsville Country Club 116 Golf Course Rd Hartsville\, SC 29550
UID:e.2045.2704
SEQUENCE:3
DTSTAMP:20260425T142359Z
URL:https://www.hartsvillechamber.org/events/details/2024-state-of-power-breakfast-presented-by-duke-energy-2704
END:VEVENT

END:VCALENDAR
