BEGIN:VCALENDAR
VERSION:2.0
PRODID:-//ChamberMaster//Event Calendar 2.0//EN
METHOD:PUBLISH
X-PUBLISHED-TTL:P3D
REFRESH-INTERVAL:P3D
CALSCALE:GREGORIAN
BEGIN:VEVENT
DTSTART:20250403T213000Z
DTEND:20250403T233000Z
X-MICROSOFT-CDO-ALLDAYEVENT:FALSE
SUMMARY:2025 - 104th Annual Membership Banquet presented by Duke Energy
DESCRIPTION:Our 104th Annual Membership Banquet will be held at Drengaelen House at Coker University and will include a networking social\, a delicious meal\, and awards ceremony. At this event\, the chamber recaps the past year's plan of action\, outlines the new year's plan\, and presents awards to outstanding community leaders.
X-ALT-DESC;FMTTYPE=text/html:<span font-size:="" helvetica="" style="white-space-collapse: preserve\; caret-color: rgb(29\, 33\, 41)\; color: rgb(29\, 33\, 41)\; font-family: ">Our 104th Annual Membership Banquet will be held at Drengaelen House at Coker University and will include a networking social\, a delicious meal\, and awards ceremony. </span><span background-attachment:="" background-clip:="" background-image:="" background-origin:="" background-position:="" background-repeat:="" background-size:="" color:="" helvetica="" style="font-size: 9pt\; font-family: ">At this event\, the chamber recaps the past year&#39\;s plan of action\, outlines the new year&#39\;s plan\, and presents awards to outstanding community leaders.</span><br />\n&nbsp\;
LOCATION:Drengaelen House at Coker University 210 E Home Ave Hartsville SC 29550
UID:e.2045.3269
SEQUENCE:3
DTSTAMP:20260424T201642Z
URL:https://www.hartsvillechamber.org/events/details/2025-104th-annual-membership-banquet-presented-by-duke-energy-3269
END:VEVENT

END:VCALENDAR
