BEGIN:VCALENDAR
VERSION:2.0
PRODID:-//ChamberMaster//Event Calendar 2.0//EN
METHOD:PUBLISH
X-PUBLISHED-TTL:P3D
REFRESH-INTERVAL:P3D
CALSCALE:GREGORIAN
BEGIN:VEVENT
DTSTART:20250710T213000Z
DTEND:20250710T230000Z
X-MICROSOFT-CDO-ALLDAYEVENT:FALSE
SUMMARY:2025- Connections After Hours 25th Anniversary Celebration Raceway Ford & Chevrolet
DESCRIPTION:Join us for a Connections After Hours Celebration for the 25th Anniversary of Raceway Ford & Chevrolet!
X-ALT-DESC;FMTTYPE=text/html:Join us for a Connections After Hours Celebration for the 25th Anniversary of Raceway Ford &amp\; Chevrolet!&nbsp\;
LOCATION:Raceway Ford and Chevrolet 1510 S 5th St Hartsville\, SC 29550
UID:e.2045.3378
SEQUENCE:3
DTSTAMP:20260425T033401Z
URL:https://www.hartsvillechamber.org/events/details/2025-connections-after-hours-25th-anniversary-celebration-raceway-ford-chevrolet-3378
END:VEVENT

END:VCALENDAR
