BEGIN:VCALENDAR
VERSION:2.0
PRODID:-//ChamberMaster//Event Calendar 2.0//EN
METHOD:PUBLISH
X-PUBLISHED-TTL:P3D
REFRESH-INTERVAL:P3D
CALSCALE:GREGORIAN
BEGIN:VEVENT
DTSTART:20250405T140000Z
DTEND:20250405T150000Z
X-MICROSOFT-CDO-ALLDAYEVENT:FALSE
SUMMARY:2025 Easter Eggstravaganza
DESCRIPTION:Join the City of Hartsville and Coker University of an Easter Eggstravaganza on the lawn at Coker University!  This is a free event for children 12 and under!  Hope to see you there!
X-ALT-DESC;FMTTYPE=text/html:Join the City of Hartsville and Coker University of an Easter Eggstravaganza on the lawn at Coker University!&nbsp\; This is a free event for children 12 and under!&nbsp\; Hope to see you there!\n<div>&nbsp\;</div>\n
LOCATION:
UID:e.2045.3290
SEQUENCE:3
DTSTAMP:20260424T183208Z
URL:https://www.hartsvillechamber.org/events/details/2025-easter-eggstravaganza-3290
END:VEVENT

END:VCALENDAR
