BEGIN:VCALENDAR
VERSION:2.0
PRODID:-//ChamberMaster//Event Calendar 2.0//EN
METHOD:PUBLISH
X-PUBLISHED-TTL:P3D
REFRESH-INTERVAL:P3D
CALSCALE:GREGORIAN
BEGIN:VEVENT
DTSTART:20250611T153000Z
DTEND:20250611T170000Z
X-MICROSOFT-CDO-ALLDAYEVENT:FALSE
SUMMARY:2025-First Responders Appreciation Luncheon presented by Carolina Pines Regional Medical Center
DESCRIPTION:First Responder Appreciation Luncheon\, with special confirmed presentations by Darlington County Sheriff Michael August\, City of Hartsville Fire Chief Ricky Flowers\, City of Hartsville Police Chief Byron Snellgrove\, Darlington County Fire District\, and potentially a few other guests! This event will be held on Wednesday\, June 11 from 11:30-1 at the Hartsville County Club.\n\n\n\nSOLD Presenting Sponsor- $1250- EXCLUSIVE- Reserved seating for 16\, 2 tables. Logo on tables and program\, logo on all marketing\, and special social media recognition \n\n \n\nGold Sponsor- $500- (limited number available) Includes reserved table seating for 8. Logo on your table\, logo on all agendas\, logo on all marketing\, and special social media recognition\n\n \n\nSilver Sponsor- $250- (Limited number available) Includes reserved table seating for 4. Name on your table\, name on all agendas\, name on all marketing and special social media recognition\n\n \n\nIndividual luncheon ticket- $30 (tickets can be purchased and gifted to first responders as well)
X-ALT-DESC;FMTTYPE=text/html:<b style="caret-color: rgb(0\, 0\, 0)\; color: rgb(0\, 0\, 0)\; font-family: Calibri\, sans-serif\; font-size: 14.666667px\;">First&nbsp\;Responder&nbsp\;Appreciation&nbsp\;Luncheon</b><span style="caret-color: rgb(0\, 0\, 0)\; color: rgb(0\, 0\, 0)\; font-family: Calibri\, sans-serif\; font-size: 14.666667px\;">\, with special confirmed presentations by Darlington County Sheriff Michael August\, City of Hartsville Fire Chief Ricky Flowers\, City of Hartsville Police Chief Byron Snellgrove\, Darlington County Fire District\, and potentially a few other guests! This event will be held on Wednesday\, June 11 from 11:30-1 at the Hartsville County Club.</span><br />\n<br />\nSOLD&nbsp\;<strong>Presenting Sponsor-</strong>&nbsp\;$1250- EXCLUSIVE- Reserved seating for 16\, 2 tables. Logo on tables and program\, logo on all marketing\, and special social media recognition&nbsp\;<br />\n&nbsp\;<br />\n<strong>Gold Sponsor</strong>- $500- (limited number available) Includes reserved table seating for 8. Logo on your table\, logo on all agendas\, logo on all marketing\, and special social media recognition<br />\n&nbsp\;<br />\n<strong>Silver Sponsor</strong>- $250- (Limited number available) Includes reserved table seating for 4. Name on your table\, name on all agendas\, name on all marketing and special social media recognition<br />\n&nbsp\;<br />\n<strong>Individual luncheon ticket</strong>- $30 (tickets can be purchased and gifted to&nbsp\;first&nbsp\;responders as well)<br />\n&nbsp\;
LOCATION:Hartsville Country Club 116 Golf Course Rd Hartsville\, SC 29550
UID:e.2045.3279
SEQUENCE:3
DTSTAMP:20260425T013727Z
URL:https://www.hartsvillechamber.org/events/details/2025-first-responders-appreciation-luncheon-presented-by-carolina-pines-regional-medical-center-3279
END:VEVENT

END:VCALENDAR
