BEGIN:VCALENDAR
VERSION:2.0
PRODID:-//ChamberMaster//Event Calendar 2.0//EN
METHOD:PUBLISH
X-PUBLISHED-TTL:P3D
REFRESH-INTERVAL:P3D
CALSCALE:GREGORIAN
BEGIN:VEVENT
DTSTART:20250228T130000Z
DTEND:20250228T150000Z
X-MICROSOFT-CDO-ALLDAYEVENT:FALSE
SUMMARY:2025 Legislative Outlook Breakfast
DESCRIPTION:2025 Legislative Outlook Breakfast on Friday\, February 28 at the Hartsville Country Club\n\nBreakfast served at 8\, program beginning at 8:30\n\nConfirmed speakers-\n\nSenator JD Chaplin\n\nRepresentative Cody T. Mitchell \n\nMike Burch\, SC 4th Judicial Circuit Solicitor\n\nDarlington County Sheriff Michael August
X-ALT-DESC;FMTTYPE=text/html:<strong><span style="font-size:11pt\;">2025 Legislative Outlook Breakfast on Friday\, February 28 at the Hartsville Country Club</span></strong><br />\n<span style="font-size:11pt\;">Breakfast served at 8\, program beginning at 8:30<br />\nConfirmed speakers-</span><br />\n<span style="font-size:11pt\;">Senator JD Chaplin</span><br />\n<span style="font-size:11pt\;">Representative Cody T. Mitchell&nbsp\;</span><br />\n<span style="font-size:11pt\;">Mike Burch\, SC 4<sup>th</sup>&nbsp\;Judicial Circuit Solicitor</span><br />\nDarlington County Sheriff Michael August<br />\n&nbsp\;
LOCATION:Hartsville Country Club 116 Golf Course Rd Hartsville\, SC 29550
UID:e.2045.3200
SEQUENCE:3
DTSTAMP:20260424T220757Z
URL:https://www.hartsvillechamber.org/events/details/2025-legislative-outlook-breakfast-3200
END:VEVENT

END:VCALENDAR
