BEGIN:VCALENDAR
VERSION:2.0
PRODID:-//ChamberMaster//Event Calendar 2.0//EN
METHOD:PUBLISH
X-PUBLISHED-TTL:P3D
REFRESH-INTERVAL:P3D
CALSCALE:GREGORIAN
BEGIN:VEVENT
DTSTART:20251211T130000Z
DTEND:20251211T150000Z
X-MICROSOFT-CDO-ALLDAYEVENT:FALSE
SUMMARY:2025 State of Industry
DESCRIPTION:Join us to hear from different industries on their current operations\, workforce\, market conditions\, and community involvement! Hearing from Carpenter Technology\, Hogge Precision Parts Company\, Nucor Steel\, North Industrial\, and Sonoco.
X-ALT-DESC;FMTTYPE=text/html:Join us to hear from different industries on their current operations\, workforce\, market conditions\, and community involvement! Hearing from Carpenter Technology\, Hogge Precision Parts Company\, Nucor Steel\, North Industrial\, and Sonoco.&nbsp\;
LOCATION:Hartsville Country Club 116 Golf Course Rd Hartsville\, SC 29550
UID:e.2045.3438
SEQUENCE:3
DTSTAMP:20260425T110038Z
URL:https://www.hartsvillechamber.org/events/details/2025-state-of-industry-3438
END:VEVENT

END:VCALENDAR
