BEGIN:VCALENDAR
VERSION:2.0
PRODID:-//ChamberMaster//Event Calendar 2.0//EN
METHOD:PUBLISH
X-PUBLISHED-TTL:P3D
REFRESH-INTERVAL:P3D
CALSCALE:GREGORIAN
BEGIN:VEVENT
DTSTART:20260122T133000Z
DTEND:20260122T150000Z
X-MICROSOFT-CDO-ALLDAYEVENT:FALSE
SUMMARY:2026 State of Education Breakfast presented by CareSouth Carolina
DESCRIPTION:2026 State of Education Breakfast presented by CareSouth Carolina\n\n\n\nThe breakfast will feature an update from Darlington County School District\, Coker University\, Florence-Darlington Technical College\, and SC Governor's School for Science and Mathematics.\n\nBreakfast is sponsored by Carolina Bank.
X-ALT-DESC;FMTTYPE=text/html:2026 State of Education Breakfast presented by CareSouth Carolina<br />\n<br />\n<span style="caret-color: rgb(51\, 51\, 51)\; font-family: Calibri\, sans-serif\; font-size: 14.6667px\; text-size-adjust: auto\;">The breakfast will feature an update from</span><span style="caret-color: rgb(51\, 51\, 51)\; font-family: Calibri\, sans-serif\; font-size: 14.6667px\; text-size-adjust: auto\;">&nbsp\;Darlington County School District\, Coker University\, Florence-Darlington Technical College\, and SC Governor&#39\;s School for Science and Mathematics.<br />\nBreakfast is sponsored by Carolina Bank.&nbsp\;</span>
LOCATION:Hartsville Country Club 116 Golf Course Rd Hartsville SC 29550
UID:e.2045.3386
SEQUENCE:3
DTSTAMP:20260425T122237Z
URL:https://www.hartsvillechamber.org/events/details/2026-state-of-education-breakfast-presented-by-caresouth-carolina-3386
END:VEVENT

END:VCALENDAR
