BEGIN:VCALENDAR
VERSION:2.0
PRODID:-//ChamberMaster//Event Calendar 2.0//EN
METHOD:PUBLISH
X-PUBLISHED-TTL:P3D
REFRESH-INTERVAL:P3D
CALSCALE:GREGORIAN
BEGIN:VEVENT
DTSTART:20260502T150000Z
DTEND:20260502T190000Z
X-MICROSOFT-CDO-ALLDAYEVENT:FALSE
SUMMARY:4th Annual Dodgeball Tournament
DESCRIPTION:Join us at our beautiful 5-acre Outdoor Education Center for a Dodgeball Tournament to benefit Positive Youth Development in Darlington County.\n\nSaturday May 2 | 11 am - 3 pm\n\nEnjoy an afternoon of food\, beverages\, and FUN!\n\nFood and beverages will be available for purchase.\n\nEnter a team of 6 - 10 players!\n\nOr simply bring a lawn chair for watching the dodgeball tournament.
X-ALT-DESC;FMTTYPE=text/html:<p style="text-align:center"><strong>Join us at our beautiful 5-acre Outdoor Education Center for a Dodgeball Tournament to benefit Positive Youth Development in Darlington County.</strong></p>\n\n<h4 style="text-align:center"><span style="color:rgb(230\, 214\, 125)"><strong>Saturday May 2 | 11 am - 3 pm</strong></span></h4>\n\n<p style="text-align:center">Enjoy an afternoon of <strong>food</strong>\, <strong>beverages</strong>\, and <strong>FUN</strong>!</p>\n\n<p style="text-align:center">Food and beverages will be available for purchase.</p>\n\n<p style="text-align:center">Enter a team of 6 - 10 players!</p>\n\n<p style="text-align:center">Or simply bring a lawn chair for watching the dodgeball tournament.</p>\n
LOCATION:Cypress Adventures 881 Loblolly Lane Hartsville\, SC 29550
UID:e.2045.3543
SEQUENCE:3
DTSTAMP:20260424T085801Z
URL:https://www.hartsvillechamber.org/events/details/4th-annual-dodgeball-tournament-3543
END:VEVENT

END:VCALENDAR
