BEGIN:VCALENDAR
VERSION:2.0
PRODID:-//ChamberMaster//Event Calendar 2.0//EN
METHOD:PUBLISH
X-PUBLISHED-TTL:P3D
REFRESH-INTERVAL:P3D
CALSCALE:GREGORIAN
BEGIN:VEVENT
DTSTART:20250425T220000Z
DTEND:20250426T010000Z
X-MICROSOFT-CDO-ALLDAYEVENT:FALSE
SUMMARY:4th annual Donning of the Kente Ceremony with guest speaker Professor\, Dr. Bobby Donaldson
DESCRIPTION:Come join Coker University for the 4th annual Donning of the Kente Ceremony and celebrate the class of 2025! The Coker Repertory Dance company\, the Coker Dance company will be performing. The guest speaker will be Dr. Bobby Donaldson\, Associate Professor of History and Director of.the USC civil rights center.
X-ALT-DESC;FMTTYPE=text/html:Come join Coker University for the 4th annual Donning of the Kente Ceremony and celebrate the class of 2025! The Coker Repertory Dance company\, the Coker Dance company will be performing. The guest speaker will be Dr. Bobby Donaldson\, Associate Professor of History and Director of.the USC civil rights center.
LOCATION:Elizabeth Boatwright Coker Performing Arts Center.
UID:e.2045.3333
SEQUENCE:3
DTSTAMP:20260424T185641Z
URL:https://www.hartsvillechamber.org/events/details/4th-annual-donning-of-the-kente-ceremony-with-guest-speaker-professor-dr-bobby-donaldson-3333
END:VEVENT

END:VCALENDAR
