BEGIN:VCALENDAR
VERSION:2.0
PRODID:-//ChamberMaster//Event Calendar 2.0//EN
METHOD:PUBLISH
X-PUBLISHED-TTL:P3D
REFRESH-INTERVAL:P3D
CALSCALE:GREGORIAN
BEGIN:VEVENT
DTSTART;VALUE=DATE:20250106
DTEND;VALUE=DATE:20250118
TRANSP:TRANSPARENT
X-MICROSOFT-CDO-ALLDAYEVENT:TRUE
SUMMARY:52nd Annual Faculty Art Exhibition
DESCRIPTION:January 6-17: 52nd Annual Faculty Art Exhibition at the Cecelia Coker Bell Gallery\n\nThe Cecelia Coker Bell Gallery and the Coker University Art Program presents the 52nd Annual Faculty Exhibition. This year's exhibition features the work of Professor Nate Gulledge\, Professor Austin Sheppard\, and Professor Chen Gao. This exhibition will include paintings\, graphic design\, and sculpture.\n\n\n\nMonday-Friday 10am-4pm
X-ALT-DESC;FMTTYPE=text/html:<p><strong>January 6-17: 52nd Annual Faculty Art Exhibition at the Cecelia Coker Bell Gallery</strong><br />\nThe Cecelia Coker Bell Gallery and the Coker University Art Program presents the 52nd Annual Faculty Exhibition. This year&rsquo\;s exhibition features the work of Professor Nate Gulledge\, Professor Austin Sheppard\, and Professor Chen Gao. This exhibition will include paintings\, graphic design\, and sculpture.<br />\n<br />\nMonday-Friday 10am-4pm</p>\n
LOCATION:Cecelia Coker Bell Gallery
UID:e.2045.3035
SEQUENCE:3
DTSTAMP:20260425T000243Z
URL:https://www.hartsvillechamber.org/events/details/52nd-annual-faculty-art-exhibition-3035
END:VEVENT

END:VCALENDAR
