BEGIN:VCALENDAR
VERSION:2.0
PRODID:-//ChamberMaster//Event Calendar 2.0//EN
METHOD:PUBLISH
X-PUBLISHED-TTL:P3D
REFRESH-INTERVAL:P3D
CALSCALE:GREGORIAN
BEGIN:VEVENT
DTSTART;VALUE=DATE:20241125
DTEND;VALUE=DATE:20241215
TRANSP:TRANSPARENT
X-MICROSOFT-CDO-ALLDAYEVENT:TRUE
SUMMARY:Annual Student Art Exhibition
DESCRIPTION:November 25   December 14: Annual Student Art Exhibition\, Cecelia Coker Bell Gallery\n\nStop by the Cecelia Coker Bell Gallery between November 25 and December 14 and view the 52nd Annual Student Art Competition. This year's exhibition is adjudicated by gallery artist Diana Noh. Come by and see what the juror has selected for this year's exhibition.\n\nMonday -Friday 10am - 4pm
X-ALT-DESC;FMTTYPE=text/html:<p><strong>November 25 &ndash\; December 14:</strong>&nbsp\;<strong>Annual Student Art Exhibition\, Cecelia Coker Bell Gallery</strong><br />\nStop by the Cecelia Coker Bell Gallery between November 25 and December 14 and view the 52nd Annual Student Art Competition. This year&rsquo\;s exhibition is adjudicated by gallery artist Diana Noh. Come by and see what the juror has selected for this year&rsquo\;s exhibition.<br />\nMonday -Friday 10am - 4pm</p>\n
LOCATION:Cecelia Coker Bell Gallery
UID:e.2045.3031
SEQUENCE:3
DTSTAMP:20260425T031801Z
URL:https://www.hartsvillechamber.org/events/details/52nd-annual-student-art-exhibition-3031
END:VEVENT

END:VCALENDAR
