BEGIN:VCALENDAR
VERSION:2.0
PRODID:-//ChamberMaster//Event Calendar 2.0//EN
METHOD:PUBLISH
X-PUBLISHED-TTL:P3D
REFRESH-INTERVAL:P3D
CALSCALE:GREGORIAN
BEGIN:VEVENT
DTSTART;VALUE=DATE:20250217
DTEND;VALUE=DATE:20250322
TRANSP:TRANSPARENT
X-MICROSOFT-CDO-ALLDAYEVENT:TRUE
SUMMARY:Abir Mohsen – Somewhere Between The Lines
DESCRIPTION:February 17   March 21: Abir Mohsen   Somewhere Between The Lines at the Cecelia Coker Bell Gallery\n\nAbir Mohsen's delicate ceramic work explores the notion of identity and home amidst conflict\, war\, and the diaspora. Mohsen holds a B.F.A from the University of North Carolina at Pembroke and an M.F.A from East Carolina University. She currently teaches at The University of North Carolina at Pembroke and Robeson Community College.\n\n\n\nMonday-Friday 10am-4pm
X-ALT-DESC;FMTTYPE=text/html:<p><strong>February 17 &ndash\; March 21: Abir Mohsen &ndash\;&nbsp\;<em>Somewhere Between The Lines</em>&nbsp\;at the Cecelia Coker Bell Gallery</strong><br />\nAbir Mohsen&rsquo\;s delicate ceramic work explores the notion of identity and home amidst conflict\, war\, and the diaspora. Mohsen holds a B.F.A from the University of North Carolina at Pembroke and an M.F.A from East Carolina University. She currently teaches at The University of North Carolina at Pembroke and Robeson Community College.<br />\n<br />\nMonday-Friday 10am-4pm</p>\n
LOCATION:Cecelia Coker Bell Gallery
UID:e.2045.3039
SEQUENCE:3
DTSTAMP:20260424T202033Z
URL:https://www.hartsvillechamber.org/events/details/abir-mohsen-somewhere-between-the-lines-3039
END:VEVENT

END:VCALENDAR
