BEGIN:VCALENDAR
VERSION:2.0
PRODID:-//ChamberMaster//Event Calendar 2.0//EN
METHOD:PUBLISH
X-PUBLISHED-TTL:P3D
REFRESH-INTERVAL:P3D
CALSCALE:GREGORIAN
BEGIN:VEVENT
DTSTART:20240411T130000Z
DTEND:20240411T193000Z
X-MICROSOFT-CDO-ALLDAYEVENT:FALSE
SUMMARY:AgriBAM
DESCRIPTION:Join us for a multi-series program with a workshop on each topic. Each workshop will look at different aspects of branding\, adverting\, and marketing for agribusinesses. From the basics to social media aspects of each. We will also have local agribusinesses sharing their tips and experiences with each topic.\n\nThe program will be broken down into three day-long workshops every Thursday\, beginning in April\, starting at 9:00 am and ending at 3:30 pm. The workshops will be held in person at Pee Dee REC and lunch will be included. \n\nWhile it is not required to attend all three workshops\, they will feed into each other\, and you will be able to take away valuable information from each. \n\nIf you have any questions\, please contact Bethany Funkhouser at (843)-944-8584 or bnf@clemson.edu\n\nPlease register at bit.ly/AgriBAM24
X-ALT-DESC;FMTTYPE=text/html:<span style="font-family:times new roman\,serif"><span style="font-size:14.0pt">Join us for a multi-series program with a workshop on each topic. Each workshop will look at different aspects of branding\, adverting\, and marketing for agribusinesses. From the basics to social media aspects of each. We will also have local agribusinesses sharing their tips and experiences with each topic.</span></span><br />\n<span style="font-family:times new roman\,serif"><span style="font-size:14.0pt">The program will be broken down into three day-long workshops every Thursday\, beginning in April\, starting at 9:00 am and ending at 3:30 pm. The workshops will be held in person at Pee Dee REC and lunch will be included. </span></span><br />\n<span style="font-family:times new roman\,serif"><span style="font-size:14.0pt">While it is not required to attend all three workshops\, they will feed into each other\, and you will be able to take away valuable information from each. </span></span><br />\n<strong><span style="font-family:times new roman\,serif"><span style="font-size:14.0pt">If you have any questions\, please contact Bethany Funkhouser at (843)-944-8584 or </span></span></strong><a href="mailto:bnf@clemson.edu"><strong><span style="font-family:times new roman\,serif"><span style="font-size:14.0pt">bnf@clemson.edu</span></span></strong></a><br />\n<strong><span style="font-family:times new roman\,serif"><span style="font-size:14.0pt">Please register at </span></span></strong><strong><span style="font-size:14.0pt">bit.ly/AgriBAM24</span></strong>
LOCATION:2200 Pocket Rd Darlington\, SC 29532 ( Clemson University Pee Dee Research and Education Center)
UID:e.2045.2706
SEQUENCE:3
DTSTAMP:20260425T155735Z
URL:https://www.hartsvillechamber.org/events/details/agribam-04-11-2024-2706
END:VEVENT

END:VCALENDAR
