BEGIN:VCALENDAR
VERSION:2.0
PRODID:-//ChamberMaster//Event Calendar 2.0//EN
METHOD:PUBLISH
X-PUBLISHED-TTL:P3D
REFRESH-INTERVAL:P3D
CALSCALE:GREGORIAN
BEGIN:VEVENT
DTSTART:20181013T160000Z
DTEND:20181014T160000Z
X-MICROSOFT-CDO-ALLDAYEVENT:FALSE
SUMMARY:All Season's Healing Hearts Camp
DESCRIPTION:All Seasons Healing Hearts Camp believes that when young people and their families come together in a positive climate and are able express themselves with a the help of trained professionals\, these families and children can develop healthy coping skills that will help them in their journey to find a place of rest. There increased awareness\, resources\, and support grieving children can once again find hope and see life as full of exciting possibilities. At camp\, families discover creative ways of saying goodbye to old season and embracing a new one through various therapeutic activities. These activities include\; art\, train walks\, pony rides and obstacles courses.
X-ALT-DESC;FMTTYPE=text/html:All Seasons Healing Hearts Camp believes that when young people and their families come together in a positive climate and are able express themselves with a the help of trained professionals\, these families and children can develop healthy coping skills that will help them in their journey to find a place of rest. There increased awareness\, resources\, and support grieving children can once again find hope and see life as full of exciting possibilities. At camp\, families discover creative ways of saying goodbye to old season and embracing a new one through various therapeutic activities. These activities include\; art\, train walks\, pony rides and obstacles courses.
LOCATION:Narrow Way Nature Center 1248 Windfall Farm Lane Hartsville\, SC 29550
UID:e.2045.808
SEQUENCE:3
DTSTAMP:20260422T163601Z
URL:https://www.hartsvillechamber.org/events/details/all-season-s-healing-hearts-camp-808
END:VEVENT

END:VCALENDAR
