BEGIN:VCALENDAR
VERSION:2.0
PRODID:-//ChamberMaster//Event Calendar 2.0//EN
METHOD:PUBLISH
X-PUBLISHED-TTL:P3D
REFRESH-INTERVAL:P3D
CALSCALE:GREGORIAN
BEGIN:VEVENT
DTSTART;VALUE=DATE:20241021
DTEND;VALUE=DATE:20241102
TRANSP:TRANSPARENT
X-MICROSOFT-CDO-ALLDAYEVENT:TRUE
SUMMARY:Alumni Invitational Exhibition
DESCRIPTION:October 21   November 1: Alumni Invitational Exhibition at the Cecelia Coker Bell Gallery\n\nCecelia Coker Bell Gallery will exhibit a selection of artworks from esteemed Coker University alumni.\n\nMonday - Friday 10 a.m.- 4 p.m.
X-ALT-DESC;FMTTYPE=text/html:<p><strong>October 21 &ndash\; November 1: Alumni Invitational Exhibition at the Cecelia Coker Bell Gallery</strong><br />\nCecelia Coker Bell Gallery will exhibit a selection of artworks from esteemed Coker University alumni.<br />\nMonday - Friday 10 a.m.- 4 p.m.</p>\n
LOCATION:Cecelia Coker Bell Gallery
UID:e.2045.3022
SEQUENCE:3
DTSTAMP:20260425T030348Z
URL:https://www.hartsvillechamber.org/events/details/alumni-invitational-exhibition-3022
END:VEVENT

END:VCALENDAR
