BEGIN:VCALENDAR
VERSION:2.0
PRODID:-//ChamberMaster//Event Calendar 2.0//EN
METHOD:PUBLISH
X-PUBLISHED-TTL:P3D
REFRESH-INTERVAL:P3D
CALSCALE:GREGORIAN
BEGIN:VEVENT
DTSTART:20250113T140000Z
DTEND:20250113T180000Z
X-MICROSOFT-CDO-ALLDAYEVENT:FALSE
SUMMARY:American Red Cross Blood Drive
DESCRIPTION:This year's event will feature a vital blood drive\, essential health screenings\, and a focus on "Recognizing and Responding to Emergencies." Attend a one-hour program that will equip you with crucial skills to handle:\n\n- Cardiac Events (heart attacks\, arrhythmias\, and the use of defibrillators)\n\n- Strokes (how to recognize signs and symptoms and the importance of a speedy response)\n\n- Nutrition (Fuel Your Body\, Fuel Your Life)\n\nDon't miss this opportunity to enhance your knowledge and protect your community. We look forward to seeing you there! For additional information please call 843-319-2982.
X-ALT-DESC;FMTTYPE=text/html:This year&#39\;s event will feature a vital blood drive\, essential health screenings\, and a focus on &quot\;Recognizing and Responding to Emergencies.&quot\; Attend a one-hour program that will equip you with crucial skills to handle:<br />\n- Cardiac Events (heart attacks\, arrhythmias\, and the use of defibrillators)<br />\n- Strokes (how to recognize signs and symptoms and the importance of a speedy response)<br />\n- Nutrition (Fuel Your Body\, Fuel Your Life)<br />\nDon&#39\;t miss this opportunity to enhance your knowledge and protect your community. We look forward to seeing you there! For additional information please call 843-319-2982.
LOCATION:Butler Heritage Foundation at 1103 S 6th St\, Hartsville\, SC.
UID:e.2045.3198
SEQUENCE:3
DTSTAMP:20260425T000703Z
URL:https://www.hartsvillechamber.org/events/details/american-red-cross-blood-drive-01-13-2025-3198
END:VEVENT

END:VCALENDAR
