BEGIN:VCALENDAR
VERSION:2.0
PRODID:-//ChamberMaster//Event Calendar 2.0//EN
METHOD:PUBLISH
X-PUBLISHED-TTL:P3D
REFRESH-INTERVAL:P3D
CALSCALE:GREGORIAN
BEGIN:VEVENT
DTSTART:20250402T160000Z
DTEND:20250402T220000Z
X-MICROSOFT-CDO-ALLDAYEVENT:FALSE
SUMMARY:American Red Cross Blood Drive
DESCRIPTION:Join us Wednesday\, April 2 from 12 p.m. to 6 p.m. in our race to save lives with the American Red Cross. Donors will receive 2 tickets to the Sport Clips Haircuts VFW Help A Hero 200 and a free gift from the American Red Cross.\n\n\n\nLocation: In front of the Darlington Raceway Stock Car Museum & Gift Shop
X-ALT-DESC;FMTTYPE=text/html:<span style="color:rgb(0\, 0\, 0)\; font-family:figtree\,sans-serif\; font-size:15.988px">Join us Wednesday\, April 2 from 12 p.m. to 6 p.m. in our race to save lives with the American Red Cross. Donors will receive 2 tickets to the Sport Clips Haircuts VFW Help A Hero 200 and a free gift from the American Red Cross.</span><br />\n<br />\n<span style="color:rgb(0\, 0\, 0)\; font-family:figtree\,sans-serif\; font-size:15.988px">Location: In front of the Darlington Raceway Stock Car Museum &amp\; Gift Shop</span>
LOCATION:Darlington Raceway
UID:e.2045.3322
SEQUENCE:3
DTSTAMP:20260424T185012Z
URL:https://www.hartsvillechamber.org/events/details/american-red-cross-blood-drive-04-02-2025-3322
END:VEVENT

END:VCALENDAR
