BEGIN:VCALENDAR
VERSION:2.0
PRODID:-//ChamberMaster//Event Calendar 2.0//EN
METHOD:PUBLISH
X-PUBLISHED-TTL:P3D
REFRESH-INTERVAL:P3D
CALSCALE:GREGORIAN
BEGIN:VEVENT
DTSTART:20250424T230000Z
DTEND:20250425T000000Z
X-MICROSOFT-CDO-ALLDAYEVENT:FALSE
SUMMARY:An Evening with Howard Coker
DESCRIPTION:Join us for a special evening with Howard Coker\, President and CEO of Sonoco Products Company\, on Thursday\, April 24th at 7:00 PM in Watson Theatre.\n\nDon't miss this opportunity to hear from one of our community's most influential leaders as he shares insights on leadership\, business\, and community impact. We hope to see you there!\n\n\n\nGuests may secure a free ticket here: https://www.coker.edu/an-evening-with-howard-coker/
X-ALT-DESC;FMTTYPE=text/html:<p><span style="font-size:18px"><span style="font-family:arial\,helvetica\,sans-serif">Join us for a special evening with <strong>Howard Coker</strong>\, <em>President and CEO of Sonoco Products Company</em>\, on Thursday\, April 24th at 7:00 PM in Watson Theatre.</span></span></p>\n\n<p><span style="font-size:18px"><span style="font-family:arial\,helvetica\,sans-serif">Don&#39\;t miss this opportunity to hear from one of our community&#39\;s most influential leaders as he shares insights on leadership\, business\, and community impact. We hope to see you there!</span><br />\n<br />\n<span style="font-family:arial\,sans-serif">Guests may secure a free ticket here: </span><a href="https://www.coker.edu/an-evening-with-howard-coker/" style="text-decoration: none\;"><span style="font-family:arial\,sans-serif">https://www.coker.edu/an-evening-with-howard-coker/</span></a></span></p>\n
LOCATION:Watson Theatre\, Elizabeth Boatwright Coker Performing Arts Center (300 E College Ave\, Hartsville SC 29550)
UID:e.2045.3332
SEQUENCE:3
DTSTAMP:20260424T184123Z
URL:https://www.hartsvillechamber.org/events/details/an-evening-with-howard-coker-3332
END:VEVENT

END:VCALENDAR
