BEGIN:VCALENDAR
VERSION:2.0
PRODID:-//ChamberMaster//Event Calendar 2.0//EN
METHOD:PUBLISH
X-PUBLISHED-TTL:P3D
REFRESH-INTERVAL:P3D
CALSCALE:GREGORIAN
BEGIN:VEVENT
DTSTART;VALUE=DATE:20250121
DTEND;VALUE=DATE:20250215
TRANSP:TRANSPARENT
X-MICROSOFT-CDO-ALLDAYEVENT:TRUE
SUMMARY:Apollinariia Illina – Illusion of Reality
DESCRIPTION:January 21   February 14: Apollinariia Illina   Illusion of Reality at the Cecelia Coker Bell Gallery\n\nApollinariia Ilina is a visual artist\, photographer\, and cinematographer whose works delve into the psychology of perception in the context of engaging with the subconscious and fostering a dialogue within. This dialogue of internal reflection forms the core of her artistic expression and is seen through photographic images which impose seemingly impossible surrealistic compositions of figures and landscapes. Ilina was born in St. Petersburg\, Russia and holds an M.F.A. in art history.\n\n\n\nMonday-Friday 10am-4pm
X-ALT-DESC;FMTTYPE=text/html:<p><strong>January 21 &ndash\; February 14: Apollinariia Illina &ndash\;&nbsp\;<em>Illusion of Reality</em>&nbsp\;at the Cecelia Coker Bell Gallery</strong><br />\nApollinariia Ilina is a visual artist\, photographer\, and cinematographer whose works delve into the psychology of perception in the context of engaging with the subconscious and fostering a dialogue within. This dialogue of internal reflection forms the core of her artistic expression and is seen through photographic images which impose seemingly impossible surrealistic compositions of figures and landscapes. Ilina was born in St. Petersburg\, Russia and holds an M.F.A. in art history.<br />\n<br />\nMonday-Friday 10am-4pm</p>\n
LOCATION:Cecelia Coker Bell Gallery
UID:e.2045.3037
SEQUENCE:3
DTSTAMP:20260424T221231Z
URL:https://www.hartsvillechamber.org/events/details/apollinariia-illina-illusion-of-reality-3037
END:VEVENT

END:VCALENDAR
