BEGIN:VCALENDAR
VERSION:2.0
PRODID:-//ChamberMaster//Event Calendar 2.0//EN
METHOD:PUBLISH
X-PUBLISHED-TTL:P3D
REFRESH-INTERVAL:P3D
CALSCALE:GREGORIAN
BEGIN:VEVENT
DTSTART:20260323T140000Z
DTEND:20260424T200000Z
X-MICROSOFT-CDO-ALLDAYEVENT:FALSE
SUMMARY:Art Exhibition: Delaney Shin "Above\, Below\, And In Between"
DESCRIPTION:Art Exhibition: Delaney MeSun Shin: Above\, Below\, and In Between \n\nMarch 23-April 24\, Cecelia Coker Bell Gallery\, in Gladys Coker Fort Art Building\, Free\n\nClosing Reception: April 24\, noon\, Cecelia Coker Bell Gallery\nDelaney MeSun Shin is an interdisciplinary artist whose work delves into the complex layers of her personal and cultural identity. Shin's immersive installations and 2D and 3D compositions offer a compelling exploration of identity\, weaving together themes of heritage\, cultural experiences\, and her interest in microbiology. Drawing from both the natural sciences and her Korean-Caucasian background\, her artistic voice carries a deep self-reflection. Shin's mastery of drawing and painting allows her to use paper as a versatile medium\, pushing its boundaries to create evocative and immersive spaces for viewers to engage. M-F 10 a.m. - 4 p.m.
X-ALT-DESC;FMTTYPE=text/html:<p><strong>Art Exhibition: Delaney MeSun Shin: Above\, Below\, and In Between&nbsp\;</strong><br />\n<strong>March 23-April 24\, Cecelia Coker Bell Gallery\, in Gladys Coker Fort Art Building\, Free<br />\n<em>Closing Reception: April 24\, noon\, Cecelia Coker Bell Gallery</em></strong></p>\n<span style="background-color:transparent\; color:rgb(0\, 0\, 0)\; font-family:helvetica neue\,sans-serif\; font-size:10pt">Delaney MeSun Shin is an interdisciplinary artist whose work delves into the complex layers of her personal and cultural identity. Shin&rsquo\;s immersive installations and 2D and 3D compositions offer a compelling exploration of identity\, weaving together themes of heritage\, cultural experiences\, and her interest in microbiology. Drawing from both the natural sciences and her Korean-Caucasian background\, her artistic voice carries a deep self-reflection. Shin&rsquo\;s mastery of drawing and painting allows her to use paper as a versatile medium\, pushing its boundaries to create evocative and immersive spaces for viewers to engage. M-F 10 a.m. - 4 p.m. </span>
LOCATION:Cecelia Coker Bell Gallery\, in Gladys Coker Fort Art Building
UID:e.2045.3532
SEQUENCE:3
DTSTAMP:20260424T085220Z
URL:https://www.hartsvillechamber.org/events/details/art-exhibition-delaney-shin-above-below-and-in-between-3532
END:VEVENT

END:VCALENDAR
