BEGIN:VCALENDAR
VERSION:2.0
PRODID:-//ChamberMaster//Event Calendar 2.0//EN
METHOD:PUBLISH
X-PUBLISHED-TTL:P3D
REFRESH-INTERVAL:P3D
CALSCALE:GREGORIAN
BEGIN:VEVENT
DTSTART;VALUE=DATE:20240424
DTEND;VALUE=DATE:20240425
TRANSP:TRANSPARENT
X-MICROSOFT-CDO-ALLDAYEVENT:TRUE
SUMMARY:Aura Photo Day hosted by Luckey Charms\, LLC
DESCRIPTION:Come join us for an in-person event located at Luckey Charms Gifts N More 1015 Nandina St to capture the unique energy of your aura! Our experienced team at Luckey Charms\, LLC will guide you through the process and provide insights into your personal aura colors.\n\nThis is a heartfelt invitation for you to come and enjoy the opportunity to experience your energetic signature in living color thru the powerful perspective of Aura Photography. Whether you desire a one-on-one session or the fun of enjoying sharing among a group of family and friends\, the insights and ah-ha moments are both powerful and empowering. If you would like to schedule a group photography session\, please let us know. \n\nAn Aura session includes a short pretalk about our Chakra and Aura energies\, followed by a hand sensor energy scan which creates a full-color printout. We will discuss the colors\, charts\, and graphs from an intuitive perspective then you will also receive an email containing your scanned pic and a multiple-page analysis generated by the software. Don't miss this opportunity to explore the mysteries of your aura and gain a deeper understanding of yourself. Call to schedule an appointment today. See you there!
X-ALT-DESC;FMTTYPE=text/html:<p>Come join us for an&nbsp\;<strong>in-person event</strong>&nbsp\;located at Luckey Charms Gifts N More 1015 Nandina St to capture the&nbsp\;<strong>unique energy</strong>&nbsp\;of your aura! Our experienced team at Luckey Charms\, LLC will guide you through the process and provide insights into your&nbsp\;<strong>personal aura colors</strong>.</p>\n\n<p>This is a heartfelt invitation for you to come and enjoy the opportunity to experience your energetic signature in living color thru the powerful perspective of Aura Photography. Whether you desire a one-on-one session or the fun of enjoying sharing among a group of family and friends\, the insights and ah-ha moments are both powerful and empowering. If you would like to schedule a group photography session\, please let us know.&nbsp\;</p>\n\n<p>An Aura session includes a short pretalk about our Chakra and Aura energies\, followed by a hand sensor energy scan which creates a full-color printout. We will discuss the colors\, charts\, and graphs from an intuitive perspective then you will also receive an email containing your scanned pic and a multiple-page analysis generated by the software. Don&#39\;t miss this opportunity to&nbsp\;<strong>explore</strong>&nbsp\;the&nbsp\;<strong>mysteries</strong>&nbsp\;of your aura and gain a deeper understanding of yourself. Call to schedule an appointment today. See you there!</p>\n
LOCATION:1015 Nandina Street Hartsville\, SC 29550
UID:e.2045.2692
SEQUENCE:3
DTSTAMP:20260425T160040Z
URL:https://www.hartsvillechamber.org/events/details/aura-photo-day-hosted-by-luckey-charms-llc-04-24-2024-2692
END:VEVENT

END:VCALENDAR
