BEGIN:VCALENDAR
VERSION:2.0
PRODID:-//ChamberMaster//Event Calendar 2.0//EN
METHOD:PUBLISH
X-PUBLISHED-TTL:P3D
REFRESH-INTERVAL:P3D
CALSCALE:GREGORIAN
BEGIN:VEVENT
DTSTART;VALUE=DATE:20250324
DTEND;VALUE=DATE:20250504
TRANSP:TRANSPARENT
X-MICROSOFT-CDO-ALLDAYEVENT:TRUE
SUMMARY:B.F.A. and B.A. Thesis Exhibitions (Art)
DESCRIPTION:March 24   May 3: B.F.A. and B.A. Thesis Exhibitions (Art) at the Cecelia Coker Bell Gallery\n\nThe Coker University Art Program will display the thesis exhibitions for our graduating B.F.A. and B.A. visual art seniors. These one week exhibitions begin on March 24 and continue through May 3\, 2025. Stop by and enjoy the work of our talented art students.\n\n\n\nMonday-Friday 10am-4pm
X-ALT-DESC;FMTTYPE=text/html:<p><strong>March 24 &ndash\; May 3: B.F.A. and B.A. Thesis Exhibitions (Art) at the Cecelia Coker Bell Gallery</strong><br />\nThe Coker University Art Program will display the thesis exhibitions for our graduating B.F.A. and B.A. visual art seniors. These one week exhibitions begin on March 24 and continue through May 3\, 2025. Stop by and enjoy the work of our talented art students.<br />\n<br />\nMonday-Friday 10am-4pm</p>\n
LOCATION:Cecelia Coker Bell Gallery
UID:e.2045.3043
SEQUENCE:3
DTSTAMP:20260424T200929Z
URL:https://www.hartsvillechamber.org/events/details/b-f-a-and-b-a-thesis-exhibitions-art-03-24-2025-3043
END:VEVENT

END:VCALENDAR
