BEGIN:VCALENDAR
VERSION:2.0
PRODID:-//ChamberMaster//Event Calendar 2.0//EN
METHOD:PUBLISH
X-PUBLISHED-TTL:P3D
REFRESH-INTERVAL:P3D
CALSCALE:GREGORIAN
BEGIN:VEVENT
DTSTART:20240325T140000Z
DTEND:20240503T200000Z
X-MICROSOFT-CDO-ALLDAYEVENT:FALSE
SUMMARY:B.F.A. and B.A. Thesis Exhibitions (Art)
DESCRIPTION:March 25   May 3: B.F.A. and B.A. Thesis Exhibitions (Art) at the Cecelia Coker Bell Gallery\n\nThe Coker University Art Program will display the thesis exhibitions for our graduating BFA and BA seniors. The one week exhibitions begin on March 25 and continue through May 3\, 2024. Stop by and see the work of our talented art students. M-F 10am-4pm
X-ALT-DESC;FMTTYPE=text/html:<p><strong>March 25 &ndash\; May 3: B.F.A. and B.A. Thesis Exhibitions (Art) at the Cecelia Coker Bell Gallery</strong><br />\nThe Coker University Art Program will display the thesis exhibitions for our graduating BFA and BA seniors. The one week exhibitions begin on March 25 and continue through May 3\, 2024. Stop by and see the work of our talented art students. M-F 10am-4pm</p>\n
LOCATION:Cecelia Coker Bell Gallery
UID:e.2045.2536
SEQUENCE:3
DTSTAMP:20260425T142338Z
URL:https://www.hartsvillechamber.org/events/details/b-f-a-and-b-a-thesis-exhibitions-art-2536
END:VEVENT

END:VCALENDAR
