BEGIN:VCALENDAR
VERSION:2.0
PRODID:-//ChamberMaster//Event Calendar 2.0//EN
METHOD:PUBLISH
X-PUBLISHED-TTL:P3D
REFRESH-INTERVAL:P3D
CALSCALE:GREGORIAN
BEGIN:VEVENT
DTSTART:20250428T230000Z
DTEND:20250429T010000Z
X-MICROSOFT-CDO-ALLDAYEVENT:FALSE
SUMMARY:Band Outdoor Pops Concert
DESCRIPTION:Band Outdoor Pops Concert on Davidson Lawn\, 7:00 p.m.\n\nJoin the Coker University Concert Band for their Spring Pops concert outside under the iconic pillars of Davidson Hall\, featuring light classical music\, jazz\, and arrangements of popular tunes. Come early for an evening of fun for the whole family!
X-ALT-DESC;FMTTYPE=text/html:<p><strong>Band Outdoor Pops Concert on Davidson Lawn\, 7:00 p.m.</strong><br />\nJoin the Coker University Concert Band for their Spring Pops concert outside under the iconic pillars of Davidson Hall\, featuring light classical music\, jazz\, and arrangements of popular tunes. Come early for an evening of fun for the whole family!&nbsp\;</p>\n
LOCATION:Davidson Lawn
UID:e.2045.3050
SEQUENCE:3
DTSTAMP:20260424T184906Z
URL:https://www.hartsvillechamber.org/events/details/band-outdoor-pops-concert-3050
END:VEVENT

END:VCALENDAR
