BEGIN:VCALENDAR
VERSION:2.0
PRODID:-//ChamberMaster//Event Calendar 2.0//EN
METHOD:PUBLISH
X-PUBLISHED-TTL:P3D
REFRESH-INTERVAL:P3D
CALSCALE:GREGORIAN
BEGIN:VEVENT
DTSTART:20240422T230000Z
DTEND:20240423T010000Z
X-MICROSOFT-CDO-ALLDAYEVENT:FALSE
SUMMARY:Band Outdoor Pops Concert on Davidson Lawn
DESCRIPTION:Band Outdoor Pops Concert on Davidson Lawn\, April 22 7:00 p.m.\n\nJoin the Coker University Band in front of the iconic Davidson Hall for an outdoor concert featuring the music of renowned film composer John Williams! This cheerful event takes place on Monday\, April 22 at 7 p.m. on the lawn in front of Davidson Hall. In the event of inclement weather\, this recital will move indoors to the Watson Theater. All are welcome!
X-ALT-DESC;FMTTYPE=text/html:<p><strong>Band Outdoor Pops Concert on Davidson Lawn\, April 22 7:00 p.m.</strong><br />\nJoin the Coker University Band in front of the iconic Davidson Hall for an outdoor concert featuring the music of renowned film composer John Williams! This cheerful event takes place on Monday\, April 22 at 7 p.m. on the lawn in front of Davidson Hall. In the event of inclement weather\, this recital will move indoors to the Watson Theater. All are welcome!</p>\n
LOCATION:
UID:e.2045.2542
SEQUENCE:3
DTSTAMP:20260425T155912Z
URL:https://www.hartsvillechamber.org/events/details/band-outdoor-pops-concert-on-davidson-lawn-2542
END:VEVENT

END:VCALENDAR
