BEGIN:VCALENDAR
VERSION:2.0
PRODID:-//ChamberMaster//Event Calendar 2.0//EN
METHOD:PUBLISH
X-PUBLISHED-TTL:P3D
REFRESH-INTERVAL:P3D
CALSCALE:GREGORIAN
BEGIN:VEVENT
DTSTART:20250405T130000Z
DTEND:20250405T200000Z
X-MICROSOFT-CDO-ALLDAYEVENT:FALSE
SUMMARY:BCAC BOCCE BALL BASH
DESCRIPTION:Join Black Creek Arts Council for the best outdoor fundraiser in Hartsville at our Annual Bocce Bash\n\nSaturday\, April 5\, 2025\, at Byerly Park.\n\n\n\n\n\n\n\nGates open at 9:00 a.m.\n\nAnd the tournament begins at 10:00 a.m.\n\nAid Black Creek Arts Council in supporting Darlington County art teachers. Art instruction allows students to utilize math\, social\, and fine/gross motor skills.
X-ALT-DESC;FMTTYPE=text/html:<div>\n<div>\n<div>\n<p>Join Black Creek Arts Council for the best outdoor fundraiser in Hartsville at our Annual Bocce Bash<br />\nSaturday\, April 5\, 2025\, at Byerly Park.</p>\n</div>\n</div>\n</div>\n\n<div>\n<div>\n<div>\n<p>Gates open at 9:00 a.m.<br />\nAnd the tournament begins at 10:00 a.m.</p>\n\n<p><span style="color:rgb(0\, 0\, 0)\; font-family:arial\,helvetica\,sans-serif">Aid Black Creek Arts Council in supporting Darlington County art teachers. Art instruction allows students to utilize math\, social\, and fine/gross motor skills.</span></p>\n</div>\n</div>\n</div>\n
LOCATION:Byerly Park\, located at the football field closest to Russell Road
UID:e.2045.3266
SEQUENCE:3
DTSTAMP:20260424T183208Z
URL:https://www.hartsvillechamber.org/events/details/bcac-bocce-ball-bash-3266
END:VEVENT

END:VCALENDAR
