BEGIN:VCALENDAR
VERSION:2.0
PRODID:-//ChamberMaster//Event Calendar 2.0//EN
METHOD:PUBLISH
X-PUBLISHED-TTL:P3D
REFRESH-INTERVAL:P3D
CALSCALE:GREGORIAN
BEGIN:VEVENT
DTSTART:20241123T150000Z
DTEND:20241123T200000Z
X-MICROSOFT-CDO-ALLDAYEVENT:FALSE
SUMMARY:Black Creek Arts Council Holiday Chalk Walk
DESCRIPTION:Calling All Chalk Artists!\n\nRemember the fun of drawing on sidewalks with colorful chalk? The Holiday Chak Walk allows you to channel that creativity?this time\, with prizes!\n\nOn Saturday\, November 23\, as part of the Heart of the Holidays celebration\, join the fun and showcase your sidewalk chalk art. The contest is open to all Chalk artists.\n\n\n\nPrizes will be awarded in the following categories:\n\nAdult artist\n\nYouth Artist (11 and under)\n\nYouth Artist (12-18)\n\nTeam/Family - max. 4\n\nPeople?s Choice Award Winner\n\nChalk will be provided\, and participants must use only the chalk supplied to ensure fairness in judging. The contest will occur in front of the Hampton Inn on 4th Street. On-site registrations will be accepted as sidewalk space allows. A notice will be posted on social media if all spaces have been filled before the event date.\n\nBring your holiday spirit and creativity to the sidewalk!
X-ALT-DESC;FMTTYPE=text/html:<p><strong>Calling All&nbsp\;Chalk&nbsp\;Artists!</strong></p>\n\n<p>Remember the fun of drawing on sidewalks with colorful chalk? The Holiday Chak Walk allows you to channel that creativity?this time\, with prizes!</p>\n\n<p>On Saturday\, November 23\, as part of the Heart of the Holidays celebration\, join the fun and showcase your sidewalk chalk art. The contest is open to all Chalk artists.<br>\n<br>\n<strong>Prizes will be awarded in the following categories:</strong><br>\nAdult artist<br>\nYouth Artist (11 and under)<br>\nYouth Artist (12-18)<br>\nTeam/Family - max. 4<br>\nPeople?s Choice Award Winner</p>\n\n<p>Chalk will be provided\, and participants must use only the chalk supplied to ensure fairness in judging. The contest will occur in front of the Hampton Inn on 4th Street. On-site registrations will be accepted as sidewalk space allows. A notice will be posted on social media if all spaces have been filled before the event date.</p>\n\n<p>Bring your holiday spirit and creativity to the sidewalk!</p>\n
LOCATION:
UID:e.2045.3154
SEQUENCE:3
DTSTAMP:20260425T030817Z
URL:https://www.hartsvillechamber.org/events/details/black-creek-arts-council-holiday-chalk-walk-3154
END:VEVENT

END:VCALENDAR
