BEGIN:VCALENDAR
VERSION:2.0
PRODID:-//ChamberMaster//Event Calendar 2.0//EN
METHOD:PUBLISH
X-PUBLISHED-TTL:P3D
REFRESH-INTERVAL:P3D
CALSCALE:GREGORIAN
BEGIN:VEVENT
DTSTART;VALUE=DATE:20241130
DTEND;VALUE=DATE:20241201
TRANSP:TRANSPARENT
X-MICROSOFT-CDO-ALLDAYEVENT:TRUE
SUMMARY:Black Creek Arts Council's Annual Holiday Market
DESCRIPTION:A unique shopping experience featuring area artists and their original work.\n\nARTWORK · ORNAMENTS · WREATHS · UNIQUE GIFTS · ARTISTIC TREES · WOODWORKING · HANDMADE JEWELRY · POTTERY · HOLIDAY DÉCOR
X-ALT-DESC;FMTTYPE=text/html:<p><span style="font-size:12px"><span style="font-family:arial\,helvetica\,sans-serif">A unique shopping experience featuring area artists and their original work.</span></span></p>\n\n<p><span style="font-size:12px"><span style="font-family:arial\,helvetica\,sans-serif">ARTWORK ·&nbsp\;ORNAMENTS ·&nbsp\;WREATHS ·&nbsp\;UNIQUE GIFTS ·&nbsp\;ARTISTIC TREES ·&nbsp\;WOODWORKING ·&nbsp\;HANDMADE JEWELRY ·&nbsp\;POTTERY ·&nbsp\;HOLIDAY DÉCOR</span></span></p>\n\n<h1>&nbsp\;</h1>\n
LOCATION:Black Creek Arts Council 116 West College Ave Hartsville
UID:e.2045.3163
SEQUENCE:3
DTSTAMP:20260425T032028Z
URL:https://www.hartsvillechamber.org/events/details/black-creek-arts-council-s-annual-holiday-market-11-30-2024-3163
END:VEVENT

END:VCALENDAR
