BEGIN:VCALENDAR
VERSION:2.0
PRODID:-//ChamberMaster//Event Calendar 2.0//EN
METHOD:PUBLISH
X-PUBLISHED-TTL:P3D
REFRESH-INTERVAL:P3D
CALSCALE:GREGORIAN
BEGIN:VEVENT
DTSTART:20250627T120000Z
DTEND:20250627T190000Z
X-MICROSOFT-CDO-ALLDAYEVENT:FALSE
SUMMARY:Butler Heritage Week 2025 'T. B. THOMAS GOLF TOURNAMENT'
DESCRIPTION:Butler Heritage Week 2025\n\n\n\nT. B. THOMAS GOLF TOURNAMENT\n\n\n\n \n\nPre-register for the T. B. Thomas Golf Tournament. This event will be held on TBD 2025 with Golf Registration at 8:00 a.m. at Hartsville Country Club\, 116 Golf Course Road\, Hartsville\, SC 29950.\n\n\n\nProceeds Benefits Butler Heritage Foundation. Shot Gun Start at 9:00 a.m. Four (4) Per Person Scrabble. $75.00 per Person. Reserve your Spot Today! $15\,000 Hole-In-One.\n\n\n \n\n\nContact: Jerry Cheatham at 843-319-8657\n\n\n\nhttp://www.butlerheritagefoundation.org/
X-ALT-DESC;FMTTYPE=text/html:<div>\n<div>Butler Heritage Week 2025</div>\n</div>\n\n<div>\n<div>T. B. THOMAS GOLF TOURNAMENT</div>\n</div>\n\n<div>\n<div>&nbsp\;</div>\n\n<div>Pre-register for the T. B. Thomas Golf Tournament. This event will be held on TBD 2025 with Golf Registration at 8:00 a.m. at Hartsville Country Club\, 116 Golf Course Road\, Hartsville\, SC 29950.</div>\n</div>\n\n<div>\n<div>Proceeds Benefits Butler Heritage Foundation. Shot Gun Start at 9:00 a.m. Four (4) Per Person Scrabble. $75.00 per Person. Reserve your Spot Today! $15\,000 Hole-In-One.</div>\n</div>\n\n<div>&nbsp\;</div>\n\n<div>\n<div>Contact: Jerry Cheatham at 843-319-8657</div>\n</div>\n\n<div>\n<div><span style="font-family:inherit"><a class="x1i10hfl xjbqb8w x1ejq31n x18oe1m7 x1sy0etr xstzfhl x972fbf x10w94by x1qhh985 x14e42zd x9f619 x1ypdohk xt0psk2 xe8uvvx xdj266r x14z9mp xat24cr x1lziwak xexx8yu xyri2b x18d9i69 x1c1uobl x16tdsg8 x1hl2dhg xggy1nq x1a2a7pz xkrqix3 x1sur9pj x1fey0fg x1s688f" href="http://www.butlerheritagefoundation.org/?fbclid=IwZXh0bgNhZW0CMTAAYnJpZBExcEd2SlB3MkFoakJOMkFUMAEeKL89kmEc8w5v3Rqo8EqyEkWbBTcvOIwbFxmt_zgwf-icUE2PiJK8jWYtr6E_aem_7iMhW0yEwfe225zVphH3ww" rel="nofollow" style="color: rgb(0\, 100\, 209)\; cursor: pointer\; text-decoration-line: none\; list-style: none\; border-width: 0px\; margin: 0px\; text-align: inherit\; border-style: none\; padding: 0px\; box-sizing: border-box\; background-color: transparent\; outline: none\; -webkit-tap-highlight-color: transparent\; font-weight: 600\; touch-action: manipulation\; display: inline\; font-family: inherit\;" tabindex="0" target="_blank">http://www.butlerheritagefoundation.org/</a></span></div>\n</div>\n
LOCATION:Hartsville Country Club 116 Golf Course Road Hartsville\, SC 29550
UID:e.2045.3375
SEQUENCE:3
DTSTAMP:20260425T032845Z
URL:https://www.hartsvillechamber.org/events/details/butler-heritage-week-2025-t-b-thomas-golf-tournament-3375
END:VEVENT

END:VCALENDAR
