BEGIN:VCALENDAR
VERSION:2.0
PRODID:-//ChamberMaster//Event Calendar 2.0//EN
METHOD:PUBLISH
X-PUBLISHED-TTL:P3D
REFRESH-INTERVAL:P3D
CALSCALE:GREGORIAN
BEGIN:VEVENT
DTSTART:20250215T000000Z
DTEND:20250216T030000Z
X-MICROSOFT-CDO-ALLDAYEVENT:FALSE
SUMMARY:Cabaret Returns for Two Unforgettable Nights!
DESCRIPTION:Get ready for an unforgettable night of entertainment! Join us for Cabaret\, where local favorites take the stage to dazzle you with all-new skits\, music\, and captivating performances.\n\n?? What to Expect:\n\n\n	\n	Late-night bites to satisfy your cravings\n	\n	\n	A selection of adult beverages to keep the good times flowing\n	\n	\n	Nonstop entertainment designed to amuse\, intrigue\, and delight\n	\n\n\nDoors Open: 7:00 PM\n\nShowtime: 7:30 PM\n\n??? Tickets:\n\n\n	\n	$70 per person\n\n	\n\n	Your ticket includes the performance\, beverages\, and hors d'oeuvres. No need to worry about tickets check in at the door and let the fun begin!\n	\n\n\n\n\n\n\n?? Please Note: This is a 21+ event created for those who appreciate an evening of bold and open-minded entertainment.\n\nMark your calendar and prepare for an electrifying night you'll talk about for weeks!
X-ALT-DESC;FMTTYPE=text/html:<div>\n<p>Get ready for an unforgettable night of entertainment! Join us for <strong>Cabaret</strong>\, where local favorites take the stage to dazzle you with <strong>all-new skits</strong>\, music\, and captivating performances.</p>\n\n<p>?? <strong>What to Expect:</strong></p>\n\n<ul>\n	<li>\n	<p>Late-night bites to satisfy your cravings</p>\n	</li>\n	<li>\n	<p>A selection of adult beverages to keep the good times flowing</p>\n	</li>\n	<li>\n	<p>Nonstop entertainment designed to amuse\, intrigue\, and delight</p>\n	</li>\n</ul>\n\n<p><strong>Doors Open:</strong> 7:00 PM<br />\n<strong>Showtime:</strong> 7:30 PM</p>\n\n<p>??? <strong>Tickets:</strong></p>\n\n<ul>\n	<li>\n	<p>$70 per person<br />\n	<br />\n	Your ticket includes the performance\, beverages\, and hors d&#39\;oeuvres. No need to worry about tickets&mdash\;check in at the door and let the fun begin!</p>\n	</li>\n</ul>\n</div>\n\n<div>\n<div>\n<div>\n<p>?? <strong>Please Note:</strong> This is a 21+ event created for those who appreciate an evening of bold and open-minded entertainment.</p>\n\n<p>Mark your calendar and prepare for an electrifying night you&rsquo\;ll talk about for weeks!</p>\n</div>\n</div>\n</div>\n
LOCATION:Black Creek Arts Council 116 W. College Ave Hartsville\, SC 29550
UID:e.2045.3265
SEQUENCE:3
DTSTAMP:20260424T220917Z
URL:https://www.hartsvillechamber.org/events/details/cabaret-returns-for-two-unforgettable-nights-3265
END:VEVENT

END:VCALENDAR
