BEGIN:VCALENDAR
VERSION:2.0
PRODID:-//ChamberMaster//Event Calendar 2.0//EN
METHOD:PUBLISH
X-PUBLISHED-TTL:P3D
REFRESH-INTERVAL:P3D
CALSCALE:GREGORIAN
BEGIN:VEVENT
DTSTART:20241113T180000Z
DTEND:20241113T190000Z
X-MICROSOFT-CDO-ALLDAYEVENT:FALSE
SUMMARY:Celebration of Life for Dr. Bhuvana Parameswaran
DESCRIPTION:GSSM to Host Celebration of Life for Beloved Teacher\, Dr. Bhuvana Parameswaran \n\n\n\nThe South Carolina Governor's School for Science and Mathematics (GSSM) will host a Celebration of Life ceremony on Nov. 13\, 2024\, honoring the late Dr. Bhuvana Parameswaran\, a cherished and long-serving member of the GSSM faculty. The ceremony will be held from 1 to 2 p.m. in the GSSM Campus gym\, where students\, alumni\, faculty\, and the public are invited to gather to remember and celebrate Dr. Bhuvana's life and legacy. \n\n\n\nThe Celebration of Life will feature an open mic\, where those wishing to share brief tributes may honor Dr. Bhuvana's memory. Attendees who are not current GSSM students\, faculty\, or staff are asked to register at www.scgssm.org/register by 11 a.m. on Nov. 13. Anyone who is not a current student\, faculty\, or staff member and is not registered will be required to check in at the security desk in the center lobby prior to entering the celebration. For those who cannot attend\, the celebration will be livestreamed on the GSSM YouTube channel at www.youtube.com/@scgssm1988. \n\n\n\nRead the full press release here.
X-ALT-DESC;FMTTYPE=text/html:<div>\n<p style="text-align:center"><strong>GSSM to Host Celebration of Life for Beloved Teacher\, Dr. Bhuvana Parameswaran</strong><span style="color:rgb(22\, 32\, 56)\; font-family:calibri\,calibri_embeddedfont\,calibri_msfontservice\,sans-serif\; font-size:12pt">&nbsp\;</span></p>\n</div>\n\n<div>\n<p><span style="color:rgb(22\, 32\, 56)\; font-family:times new roman\,times new roman_embeddedfont\,times new roman_msfontservice\,serif\; font-size:12pt">The South Carolina Governor&#39\;s School for Science and Mathematics (GSSM) will host a Celebration of Life ceremony on Nov. 13\, 2024\, honoring the late Dr. Bhuvana Parameswaran\, a cherished and long-serving member of the GSSM faculty. The ceremony will be held from 1 to 2 p.m. in the GSSM Campus gym\, where students\, alumni\, faculty\, and the public are invited to gather to remember and celebrate Dr. Bhuvana&rsquo\;s life and legacy.</span><span style="color:rgb(22\, 32\, 56)\; font-family:times new roman\,times new roman_embeddedfont\,times new roman_msfontservice\,serif\; font-size:12pt">&nbsp\;</span></p>\n</div>\n\n<div>\n<p><span style="color:rgb(22\, 32\, 56)\; font-family:times new roman\,times new roman_embeddedfont\,times new roman_msfontservice\,serif\; font-size:12pt">The Celebration of Life will feature an open mic\, where those wishing to share brief tributes may honor Dr. Bhuvana&rsquo\;s memory. Attendees who are not current GSSM students\, faculty\, or staff are asked to register at </span><a class="Hyperlink HyperlinkGateOff SCXW30552073 BCX0" href="https://www.scgssm.org/register" rel="noreferrer noopener" style="-webkit-user-drag: none\; -webkit-tap-highlight-color: transparent\; margin: 0px\; padding: 0px\; user-select: text\; text-decoration-line: none\; color: inherit\;" target="_blank"><span style="color:rgb(0\, 0\, 255)\; font-family:times new roman\,times new roman_embeddedfont\,times new roman_msfontservice\,serif\; font-size:12pt">www.scgssm.org/register</span></a><span style="color:rgb(22\, 32\, 56)\; font-family:times new roman\,times new roman_embeddedfont\,times new roman_msfontservice\,serif\; font-size:12pt"> by 11 a.m. on Nov. 13. Anyone who is not a current student\, faculty\, or staff member and is not registered will be required to check in at the security desk in the center lobby prior to entering the celebration. For those who cannot attend\, the celebration will be livestreamed on the GSSM YouTube channel at </span><a class="Hyperlink HyperlinkGateOff SCXW30552073 BCX0" href="https://www.youtube.com/@scgssm1988/streams" rel="noreferrer noopener" style="-webkit-user-drag: none\; -webkit-tap-highlight-color: transparent\; margin: 0px\; padding: 0px\; user-select: text\; text-decoration-line: none\; color: inherit\;" target="_blank"><span style="color:rgb(0\, 0\, 255)\; font-family:times new roman\,times new roman_embeddedfont\,times new roman_msfontservice\,serif\; font-size:12pt">www.youtube.com/@scgssm1988</span></a><span style="color:rgb(22\, 32\, 56)\; font-family:times new roman\,times new roman_embeddedfont\,times new roman_msfontservice\,serif\; font-size:12pt">.</span><span style="color:rgb(22\, 32\, 56)\; font-family:times new roman\,times new roman_embeddedfont\,times new roman_msfontservice\,serif\; font-size:12pt">&nbsp\;</span></p>\n</div>\n\n<div>\n<p><font color="#162038" face="times new roman\, times new roman_embeddedfont\, times new roman_msfontservice\, serif"><span style="font-size:16px">Read the full press release <a href="https://www.scgssm.org/news/gssm-host-celebration-life-beloved-teacher-dr-bhuvana-parameswaran">here</a>.</span></font></p>\n</div>\n
LOCATION:South Carolina Governor's School for Science & Mathematics 401 Railroad Avenue Hartsville\, SC 29550
UID:e.2045.3178
SEQUENCE:3
DTSTAMP:20260425T030925Z
URL:https://www.hartsvillechamber.org/events/details/celebration-of-life-for-dr-bhuvana-parameswaran-3178
END:VEVENT

END:VCALENDAR
