BEGIN:VCALENDAR
VERSION:2.0
PRODID:-//ChamberMaster//Event Calendar 2.0//EN
METHOD:PUBLISH
X-PUBLISHED-TTL:P3D
REFRESH-INTERVAL:P3D
CALSCALE:GREGORIAN
BEGIN:VEVENT
DTSTART:20241207T003000Z
DTEND:20241207T020000Z
X-MICROSOFT-CDO-ALLDAYEVENT:FALSE
SUMMARY:Choral Holiday Concert
DESCRIPTION:Choral Holiday Concert at St. Bartholomew's Episcopal Church\, 7:30 p.m\n\nJoin the Coker University Choral Program in celebrating the sounds of the season. This concert will include both holiday favorites and the music of winter in a festive and joyous atmosphere.
X-ALT-DESC;FMTTYPE=text/html:<p><strong>Choral Holiday Concert at St. Bartholomew&rsquo\;s Episcopal Church\, 7:30 p.m</strong><br />\nJoin the Coker University Choral Program in celebrating the sounds of the season. This concert will include both holiday favorites and the music of winter in a festive and joyous atmosphere.</p>\n
LOCATION:St. Bartholomew's Episcopal Church
UID:e.2045.3033
SEQUENCE:3
DTSTAMP:20260425T011847Z
URL:https://www.hartsvillechamber.org/events/details/choral-holiday-concert-3033
END:VEVENT

END:VCALENDAR
