BEGIN:VCALENDAR
VERSION:2.0
PRODID:-//ChamberMaster//Event Calendar 2.0//EN
METHOD:PUBLISH
X-PUBLISHED-TTL:P3D
REFRESH-INTERVAL:P3D
CALSCALE:GREGORIAN
BEGIN:VEVENT
DTSTART:20241208T200000Z
DTEND:20241208T220000Z
X-MICROSOFT-CDO-ALLDAYEVENT:FALSE
SUMMARY:Christmas Open House
DESCRIPTION:You are cordially invited To Share the Holiday Spirit with Kalmia Gardens at the Historic Hart House c.1820\n\nThe house will be decorated in period style. There will be light snacks and a visit from Old Saint Nick. Along with the Hart House tour\, the Hart Cottage will also be open free of charge. So please visit us on December 8th from 3 to 5 p.m. at 1624 W. Carolina Ave\, Hartsville\, SC.
X-ALT-DESC;FMTTYPE=text/html:<div style="text-align: center\;"><span style="font-family:algerian"><span style="font-size:18.0pt">You are cordially invited To Share the Holiday Spirit with Kalmia Gardens at the Historic Hart House c.1820</span><br />\n<span style="font-size:14.0pt">The house will be decorated in period style. There will be light snacks and a visit from Old Saint Nick. Along with the Hart House tour\, the Hart Cottage will also be open free of charge. So please visit us on December 8th from 3 to 5 p.m. at 1624 W. Carolina Ave\, Hartsville\, SC.&nbsp\; </span></span><br />\n<br type="_moz" />\n&nbsp\;</div>\n
LOCATION:1624 West Carolina Ave. Hartsville\, SC 29550
UID:e.2045.3181
SEQUENCE:3
DTSTAMP:20260425T013239Z
URL:https://www.hartsvillechamber.org/events/details/christmas-open-house-3181
END:VEVENT

END:VCALENDAR
