BEGIN:VCALENDAR
VERSION:2.0
PRODID:-//ChamberMaster//Event Calendar 2.0//EN
METHOD:PUBLISH
X-PUBLISHED-TTL:P3D
REFRESH-INTERVAL:P3D
CALSCALE:GREGORIAN
BEGIN:VEVENT
DTSTART:20251207T200000Z
DTEND:20251207T220000Z
X-MICROSOFT-CDO-ALLDAYEVENT:FALSE
SUMMARY:Christmas Open House at Kalmia Gardens and the Hart Cottage
DESCRIPTION:You are cordially invited to share the holiday spirit with Kalmia Gardens at the Historic Hart House and the John L. Hart Cottage.\n\nThe Hart House will be open\, free of charge\, decorated in period style with light snacks and a visit from Old Saint Nick. Along with the Hart House tour\, the Hart Cottage will also be open free of charge. Please visit both historic homes on Sunday\, December 7\, 2025 from 3 p.m. to 5 p.m.\n\nThe Hart House is located in Kalmia Gardens at 1624 W. Carolina Avenue\, Hartsville\, S.C. 29550.\n\nThe Hart Cottage is located at 106 E. Home Ave.\, Hartsville\, S.C. 29550.
X-ALT-DESC;FMTTYPE=text/html:<p>You are cordially invited to share the holiday spirit with Kalmia Gardens at the Historic Hart House and the John L. Hart Cottage.</p>\n\n<p>The Hart House will be open\, free of charge\, decorated in period style with light snacks and a visit from Old Saint Nick. Along with the Hart House tour\, the Hart Cottage will also be open free of charge. Please visit both historic homes on Sunday\, December 7\, 2025 from 3 p.m. to 5 p.m.</p>\n\n<p>The Hart House is located in Kalmia Gardens at 1624 W. Carolina Avenue\, Hartsville\, S.C. 29550.<br />\nThe Hart Cottage is located at 106 E. Home Ave.\, Hartsville\, S.C. 29550.</p>\n
LOCATION:The Hart House is located in Kalmia Gardens at 1624 W. Carolina Avenue\, Hartsville\, S.C. 29550. The Hart Cottage is located at 106 E. Home Ave.\, Hartsville\, S.C. 29550.
UID:e.2045.3437
SEQUENCE:3
DTSTAMP:20260425T110512Z
URL:https://www.hartsvillechamber.org/events/details/christmas-open-house-at-kalmia-gardens-and-the-hart-cottage-3437
END:VEVENT

END:VCALENDAR
