BEGIN:VCALENDAR
VERSION:2.0
PRODID:-//ChamberMaster//Event Calendar 2.0//EN
METHOD:PUBLISH
X-PUBLISHED-TTL:P3D
REFRESH-INTERVAL:P3D
CALSCALE:GREGORIAN
BEGIN:VEVENT
DTSTART:20251220T000000Z
DTEND:20251220T020000Z
X-MICROSOFT-CDO-ALLDAYEVENT:FALSE
SUMMARY:Christmas Sing-Along with Matt Papa
DESCRIPTION:Join us for a magical night of music and celebration of our Saviour as acclaimed Christian singer-songwriter Matt Papa comes to Hartsville\, SC\, for a Christmas carol sing-along at Emmanuel Baptist Church on Friday\, December 19\, at 7:00 PM.\n\nTicket Options:\n\nGeneral Admission: Enjoy the whole concert experience.\n\nVIP: Receive priority seating for a more personalized experience.\n\nArtist Circle: Secure the best seats in the house\, enjoy a photo opportunity with Matt Papa\, and take home a signed music sheet as a special keepsake.\n\nBring your family and friends to share in the merriment\, and let the uplifting sounds of Matt Papa's music make this Christmas season truly unforgettable.\n\nTickets available now!
X-ALT-DESC;FMTTYPE=text/html:<p>Join us for a magical night of music and celebration of our Saviour as acclaimed Christian singer-songwriter Matt Papa comes to Hartsville\, SC\, for a Christmas carol sing-along at Emmanuel Baptist Church on Friday\, December 19\, at 7:00 PM.</p>\n\n<p>Ticket Options:</p>\n\n<p>General Admission: Enjoy the whole concert experience.</p>\n\n<p>VIP: Receive priority seating for a more personalized experience.</p>\n\n<p>Artist Circle: Secure the best seats in the house\, enjoy a photo opportunity with Matt Papa\, and take home a signed music sheet as a special keepsake.</p>\n\n<p>Bring your family and friends to share in the merriment\, and let the uplifting sounds of Matt Papa&rsquo\;s music make this Christmas season truly unforgettable.</p>\n\n<p>Tickets available now!</p>\n
LOCATION:Emmanuel Baptist Church on 949 N. Marquis Hwy. Hartsville\, SC 29550.
UID:e.2045.3465
SEQUENCE:3
DTSTAMP:20260425T121925Z
URL:https://www.hartsvillechamber.org/events/details/christmas-sing-along-with-matt-papa-3465
END:VEVENT

END:VCALENDAR
