BEGIN:VCALENDAR
VERSION:2.0
PRODID:-//ChamberMaster//Event Calendar 2.0//EN
METHOD:PUBLISH
X-PUBLISHED-TTL:P3D
REFRESH-INTERVAL:P3D
CALSCALE:GREGORIAN
BEGIN:VEVENT
DTSTART:20250306T230000Z
DTEND:20250307T010000Z
X-MICROSOFT-CDO-ALLDAYEVENT:FALSE
SUMMARY:City of Hartsville State of the City Address 2025
DESCRIPTION:Please join us for the State of the City Address on March 6\, 2025\, at 6:00 PM at the Center Theater (212 N Fifth St\, Hartsville\, SC). Hear important updates\, key initiatives\, and the vision for our city's future. Let's come together to celebrate progress and what's ahead! Mark your calendar & spread the word!
X-ALT-DESC;FMTTYPE=text/html:<p><span style="color:rgb(8\, 8\, 9)\; font-family:segoe ui historic\,segoe ui\,helvetica\,arial\,sans-serif\; font-size:15px">Please join us for the State of the City Address on March 6\, 2025\, at 6:00 PM at the Center Theater (212 N Fifth St\, Hartsville\, SC). Hear important updates\, </span><span style="color:rgb(8\, 8\, 9)\; font-family:segoe ui historic\,segoe ui\,helvetica\,arial\,sans-serif\; font-size:15px">key initiatives\, and the vision for our city&#39\;s future. Let&rsquo\;s come together to celebrate progress and what&rsquo\;s ahead! Mark your calendar &amp\; spread the word! </span></p>\n
LOCATION:Center Theater 212 N Fifth Street Hartsville\, SC 29550
UID:e.2045.3276
SEQUENCE:3
DTSTAMP:20260424T202737Z
URL:https://www.hartsvillechamber.org/events/details/city-of-hartsville-state-of-the-city-address-2025-3276
END:VEVENT

END:VCALENDAR
