BEGIN:VCALENDAR
VERSION:2.0
PRODID:-//ChamberMaster//Event Calendar 2.0//EN
METHOD:PUBLISH
X-PUBLISHED-TTL:P3D
REFRESH-INTERVAL:P3D
CALSCALE:GREGORIAN
BEGIN:VEVENT
DTSTART:20250313T123000Z
DTEND:20250313T133000Z
X-MICROSOFT-CDO-ALLDAYEVENT:FALSE
SUMMARY:Coffee and Chat
DESCRIPTION:Transform Your Business with a Solid Digital Foundation!\n\n \n\n?? Ready to revolutionize your business? Join us for an electrifying event where we dive deep into the essentials of building a robust digital foundation. From mastering social media strategies to conquering local SEO and reputation management\, we've got you covered!\n\n \n\nWhy You Can't Miss This:\n\n\n	Local SEO Mastery: Learn how to dominate local search results and attract more customers.\n	Reputation Management: Discover the secrets to maintaining stellar reviews and a positive online presence.\n	Website & Social Media Excellence: Unlock the full potential of your online platforms.\n\n \n\nSupercharge Your Business with AI\n\nUnleash the power of artificial intelligence to streamline operations and save valuable time.\n\n \n\nEvent Highlights:\n\n\n	AI's Impact on Marketing & Advertising: See how AI is revolutionizing customer engagement\, personalization\, and campaign optimization. Get ready to implement cutting-edge strategies for unparalleled growth.\n	Inside the AI Giants: Gain exclusive insights into the advanced AI ecosystems of Google and Meta. Learn how to maximize your reach and effectiveness on their platforms.\n	Marketing & Reputation in the AI Era: Understand the timeless principles of marketing and reputation management\, and discover how AI tools can elevate your brand.\n	Stand Out with AI: Walk away with practical strategies to implement AI in your business\, gain a competitive edge\, and drive sustainable success.\n\n \n\nWho Should Attend?\n\n\n	Business Owners and Leaders\n	HR & Recruitment Specialists\n	Entrepreneurs & Start-up Founders\n	Anyone eager to leverage AI for business growth\n\n \n\nExciting Door Prizes:\n\n\n	$2\,000 Radio Schedule (Grand Prize)\n	Tickets to Sporting Events\n	Restaurant Gift Cards\n\n \n\n?? Bonus: Receive a free Digital Presence Report with your registration!\n\n \n\nDon't miss this opportunity to elevate your business with cutting-edge digital and AI strategies. We can't wait to see you there! ??
X-ALT-DESC;FMTTYPE=text/html:<strong><span style="font-family:aptos\,sans-serif"><span style="font-size:12.0pt">Transform Your Business with a Solid Digital Foundation!</span></span></strong><br />\n&nbsp\;<br />\n<span style="font-family:segoe ui emoji\,sans-serif"><span style="font-size:12.0pt">??</span></span><span style="font-family:aptos\,sans-serif"><span style="font-size:12.0pt">&nbsp\;<strong>Ready to revolutionize your business?</strong>&nbsp\;Join us for an electrifying event where we dive deep into the essentials of building a robust digital foundation. From mastering social media strategies to conquering local SEO and reputation management\, we&#39\;ve got you covered!</span></span><br />\n&nbsp\;<br />\n<strong><span style="font-family:aptos\,sans-serif"><span style="font-size:12.0pt">Why You Can&#39\;t Miss This:</span></span></strong>\n\n<ul>\n	<li><strong><span style="font-family:aptos\,sans-serif"><span style="font-size:12.0pt">Local SEO Mastery</span></span></strong><span style="font-family:aptos\,sans-serif"><span style="font-size:12.0pt">: Learn how to dominate local search results and attract more customers.</span></span></li>\n	<li><strong><span style="font-family:aptos\,sans-serif"><span style="font-size:12.0pt">Reputation Management</span></span></strong><span style="font-family:aptos\,sans-serif"><span style="font-size:12.0pt">: Discover the secrets to maintaining stellar reviews and a positive online presence.</span></span></li>\n	<li><strong><span style="font-family:aptos\,sans-serif"><span style="font-size:12.0pt">Website &amp\; Social Media Excellence</span></span></strong><span style="font-family:aptos\,sans-serif"><span style="font-size:12.0pt">: Unlock the full potential of your online platforms.</span></span></li>\n</ul>\n&nbsp\;<br />\n<strong><span style="font-family:aptos\,sans-serif"><span style="font-size:12.0pt">Supercharge Your Business with AI</span></span></strong><br />\n<span style="font-family:aptos\,sans-serif"><span style="font-size:12.0pt">Unleash the power of artificial intelligence to streamline operations and save valuable time.</span></span><br />\n&nbsp\;<br />\n<strong><span style="font-family:aptos\,sans-serif"><span style="font-size:12.0pt">Event Highlights:</span></span></strong>\n\n<ul>\n	<li><strong><span style="font-family:aptos\,sans-serif"><span style="font-size:12.0pt">AI&#39\;s Impact on Marketing &amp\; Advertising</span></span></strong><span style="font-family:aptos\,sans-serif"><span style="font-size:12.0pt">: See how AI is revolutionizing customer engagement\, personalization\, and campaign optimization. Get ready to implement cutting-edge strategies for unparalleled growth.</span></span></li>\n	<li><strong><span style="font-family:aptos\,sans-serif"><span style="font-size:12.0pt">Inside the AI Giants</span></span></strong><span style="font-family:aptos\,sans-serif"><span style="font-size:12.0pt">: Gain exclusive insights into the advanced AI ecosystems of Google and Meta. Learn how to maximize your reach and effectiveness on their platforms.</span></span></li>\n	<li><strong><span style="font-family:aptos\,sans-serif"><span style="font-size:12.0pt">Marketing &amp\; Reputation in the AI Era</span></span></strong><span style="font-family:aptos\,sans-serif"><span style="font-size:12.0pt">: Understand the timeless principles of marketing and reputation management\, and discover how AI tools can elevate your brand.</span></span></li>\n	<li><strong><span style="font-family:aptos\,sans-serif"><span style="font-size:12.0pt">Stand Out with AI</span></span></strong><span style="font-family:aptos\,sans-serif"><span style="font-size:12.0pt">: Walk away with practical strategies to implement AI in your business\, gain a competitive edge\, and drive sustainable success.</span></span></li>\n</ul>\n&nbsp\;<br />\n<strong><span style="font-family:aptos\,sans-serif"><span style="font-size:12.0pt">Who Should Attend?</span></span></strong>\n\n<ul>\n	<li><span style="font-family:aptos\,sans-serif"><span style="font-size:12.0pt">Business Owners and Leaders</span></span></li>\n	<li><span style="font-family:aptos\,sans-serif"><span style="font-size:12.0pt">HR &amp\; Recruitment Specialists</span></span></li>\n	<li><span style="font-family:aptos\,sans-serif"><span style="font-size:12.0pt">Entrepreneurs &amp\; Start-up Founders</span></span></li>\n	<li><span style="font-family:aptos\,sans-serif"><span style="font-size:12.0pt">Anyone eager to leverage AI for business growth</span></span></li>\n</ul>\n&nbsp\;<br />\n<strong><span style="font-family:aptos\,sans-serif"><span style="font-size:12.0pt">Exciting Door Prizes:</span></span></strong>\n\n<ul>\n	<li><strong><span style="font-family:aptos\,sans-serif"><span style="font-size:12.0pt">$2\,000 Radio Schedule (Grand Prize)</span></span></strong></li>\n	<li><strong><span style="font-family:aptos\,sans-serif"><span style="font-size:12.0pt">Tickets to Sporting Events</span></span></strong></li>\n	<li><strong><span style="font-family:aptos\,sans-serif"><span style="font-size:12.0pt">Restaurant Gift Cards</span></span></strong></li>\n</ul>\n&nbsp\;<br />\n<span style="font-family:segoe ui emoji\,sans-serif"><span style="font-size:12.0pt">??</span></span><span style="font-family:aptos\,sans-serif"><span style="font-size:12.0pt">&nbsp\;<strong>Bonus</strong>: Receive a free Digital Presence Report with your registration!</span></span><br />\n&nbsp\;<br />\n<span style="font-family:aptos\,sans-serif"><span style="font-size:12.0pt">Don&#39\;t miss this opportunity to elevate your business with cutting-edge digital and AI strategies. We can&#39\;t wait to see you there! </span></span><span style="font-family:segoe ui emoji\,sans-serif"><span style="font-size:12.0pt">??</span></span><br />\n&nbsp\;<br />\n&nbsp\;
LOCATION:Darlington County Voter Registration 131 Cashua St. Darlington\, SC 29532
UID:e.2045.3282
SEQUENCE:3
DTSTAMP:20260424T202035Z
URL:https://www.hartsvillechamber.org/events/details/coffee-and-chat-3282
END:VEVENT

END:VCALENDAR
