BEGIN:VCALENDAR
VERSION:2.0
PRODID:-//ChamberMaster//Event Calendar 2.0//EN
METHOD:PUBLISH
X-PUBLISHED-TTL:P3D
REFRESH-INTERVAL:P3D
CALSCALE:GREGORIAN
BEGIN:VEVENT
DTSTART:20250612T130000Z
DTEND:20250612T143000Z
X-MICROSOFT-CDO-ALLDAYEVENT:FALSE
SUMMARY:Coffee & Conversation with the DCSD Superintendents
DESCRIPTION:It's a time of farewells and new beginnings in the Darlington County School District (DCSD)! Drop by for a cup of coffee and chat with Dr. Tim Newman\, departing DCSD superintendent\, and Dr. Matthew Ferguson\, incoming DCSD superintendent.\n\nJune 12\, 2025\n\n9AM - 10:30 AM\n\nThe Rooster Coffee Shop\n\n136 W. Carolina Ave.\, Hartsville\, SC
X-ALT-DESC;FMTTYPE=text/html:<p>It&#39\;s a time of farewells and new beginnings in the Darlington County School District (DCSD)! Drop by for a cup of coffee and chat with Dr. Tim Newman\, departing DCSD superintendent\, and Dr. Matthew Ferguson\, incoming DCSD superintendent.<br />\nJune 12\, 2025<br />\n9AM - 10:30 AM<br />\nThe Rooster Coffee Shop<br />\n136 W. Carolina Ave.\, Hartsville\, SC</p>\n\n<p>&nbsp\;</p>\n
LOCATION:The Rooster Coffee Shop 136 W. Carolina Ave.\, Hartsville\, SC
UID:e.2045.3370
SEQUENCE:3
DTSTAMP:20260424T213823Z
URL:https://www.hartsvillechamber.org/events/details/coffee-conversation-with-the-dcsd-superintendents-3370
END:VEVENT

END:VCALENDAR
