BEGIN:VCALENDAR
VERSION:2.0
PRODID:-//ChamberMaster//Event Calendar 2.0//EN
METHOD:PUBLISH
X-PUBLISHED-TTL:P3D
REFRESH-INTERVAL:P3D
CALSCALE:GREGORIAN
BEGIN:VEVENT
DTSTART:20250317T233000Z
DTEND:20250318T010000Z
X-MICROSOFT-CDO-ALLDAYEVENT:FALSE
SUMMARY:Coker Band Spring Masterworks Concert
DESCRIPTION:Coker Band Spring Masterworks Concert   March 17\, 7:30 p.m.\, Watson Theater\; $5 students/seniors\, $10 General Admission\n\nJoin the Coker University Concert Band for their Spring Masterworks concert\, featuring music in a variety of musical styles. The band\, made up of Coker students\, faculty\, and community members\, will play classic band repertoire and recently composed music.
X-ALT-DESC;FMTTYPE=text/html:<p><strong>Coker Band Spring Masterworks Concert &ndash\; March 17\, 7:30 p.m.\, Watson Theater\; $5 students/seniors\, $10 General Admission</strong><br />\nJoin the Coker University Concert Band for their Spring Masterworks concert\, featuring music in a variety of musical styles. The band\, made up of Coker students\, faculty\, and community members\, will play classic band repertoire and recently composed music.</p>\n
LOCATION:Watson Theater
UID:e.2045.3042
SEQUENCE:3
DTSTAMP:20260424T202112Z
URL:https://www.hartsvillechamber.org/events/details/coker-band-spring-masterworks-concert-3042
END:VEVENT

END:VCALENDAR
