BEGIN:VCALENDAR
VERSION:2.0
PRODID:-//ChamberMaster//Event Calendar 2.0//EN
METHOD:PUBLISH
X-PUBLISHED-TTL:P3D
REFRESH-INTERVAL:P3D
CALSCALE:GREGORIAN
BEGIN:VEVENT
DTSTART:20251204T220000Z
DTEND:20251204T230000Z
X-MICROSOFT-CDO-ALLDAYEVENT:FALSE
SUMMARY:Coker Community Music Program Fall Recital
DESCRIPTION:December 4\, 5 p.m.\, Hannah Lide Recital Hall\n\nCome celebrate the end of the fall semester with Coker Community Music Program students\, who will showcase their talents and artistic growth in this special recital for family\, friends\, and the community. Free.
X-ALT-DESC;FMTTYPE=text/html:<p><em>December 4\, 5 p.m.\, Hannah Lide Recital Hall</em></p>\n\n<p><span style="background-color:transparent\; color:rgb(0\, 0\, 0)\; font-family:helvetica neue\,sans-serif\; font-size:10pt">Come celebrate the end of the fall semester with Coker Community Music Program students\, who will showcase their talents and artistic growth in this special recital for family\, friends\, and the community. Free.</span></p>\n\n<div>&nbsp\;</div>\n
LOCATION:Music Recital Hall
UID:e.2045.3435
SEQUENCE:3
DTSTAMP:20260425T105747Z
URL:https://www.hartsvillechamber.org/events/details/coker-community-music-program-fall-recital-3435
END:VEVENT

END:VCALENDAR
