BEGIN:VCALENDAR
VERSION:2.0
PRODID:-//ChamberMaster//Event Calendar 2.0//EN
METHOD:PUBLISH
X-PUBLISHED-TTL:P3D
REFRESH-INTERVAL:P3D
CALSCALE:GREGORIAN
BEGIN:VEVENT
DTSTART:20251107T000000Z
DTEND:20251108T010000Z
X-MICROSOFT-CDO-ALLDAYEVENT:FALSE
SUMMARY:Coker Student Choreography Showcase
DESCRIPTION:Coker Student Choreography Showcase\n\nNovember 6-7\, 7 p.m.\, Watson Theater\n\nNovember 8\, 2 p.m.\, Watson Theater\nThis event will feature choreography by majors of the Coker Dance Program. In this concert\, students will explore themes of relationships\, religion\, self-discovery\, and identity through various styles of dance\, including contemporary and lyrical dance. Senior Dance major Liyah Willis\, pursuing her BFA in Dance: Choreography\, will present her senior thesis research investigating the effects of social media on college-age women through a solo performance and group choreography. Free.
X-ALT-DESC;FMTTYPE=text/html:<p><strong>Coker Student Choreography Showcase</strong><br />\n<strong>November 6-7\, 7 p.m.\, Watson Theater</strong><br />\n<strong>November 8\, 2 p.m.\, Watson Theater</strong></p>\n<span style="background-color:transparent\; color:rgb(0\, 0\, 0)\; font-family:helvetica neue\,sans-serif\; font-size:10pt">This event will feature choreography by majors of the Coker Dance Program. In this concert\, students will explore themes of relationships\, religion\, self-discovery\, and identity through various styles of dance\, including contemporary and lyrical dance. Senior Dance major Liyah Willis\, pursuing her BFA in Dance: Choreography\, will present her senior thesis research investigating the effects of social media on college-age women through a solo performance and group choreography. </span><em>Free.</em>
LOCATION:Watson Theater
UID:e.2045.3426
SEQUENCE:3
DTSTAMP:20260425T104059Z
URL:https://www.hartsvillechamber.org/events/details/coker-student-choreography-showcase-3426
END:VEVENT

END:VCALENDAR
