BEGIN:VCALENDAR
VERSION:2.0
PRODID:-//ChamberMaster//Event Calendar 2.0//EN
METHOD:PUBLISH
X-PUBLISHED-TTL:P3D
REFRESH-INTERVAL:P3D
CALSCALE:GREGORIAN
BEGIN:VEVENT
DTSTART:20250412T130000Z
DTEND:20250412T210000Z
X-MICROSOFT-CDO-ALLDAYEVENT:FALSE
SUMMARY:Coker University Alumni Day & Awards Luncheon
DESCRIPTION:Join us for Alumni Day on Saturday\, April 12\, 2025 - a time of joy\, nostalgia\, and connection. All alumni are welcome to attend the events\, which will feature a program with special guests\, guided campus tours\, class break-out sessions\, class reunions\, and the prestigious annual Alumni Awards presentation as part of the recognition luncheon.
X-ALT-DESC;FMTTYPE=text/html:Join us for Alumni Day on Saturday\, April 12\, 2025 - a time of joy\, nostalgia\, and connection. All alumni are welcome to attend the events\, which will feature a program with special guests\, guided campus tours\, class break-out sessions\, class reunions\, and the prestigious annual Alumni Awards presentation as part of the recognition luncheon.
LOCATION:Elizabeth Boatwright Coker Performing Arts Center
UID:e.2045.3288
SEQUENCE:3
DTSTAMP:20260424T184211Z
URL:https://www.hartsvillechamber.org/events/details/coker-university-alumni-day-awards-luncheon-3288
END:VEVENT

END:VCALENDAR
