BEGIN:VCALENDAR
VERSION:2.0
PRODID:-//ChamberMaster//Event Calendar 2.0//EN
METHOD:PUBLISH
X-PUBLISHED-TTL:P3D
REFRESH-INTERVAL:P3D
CALSCALE:GREGORIAN
BEGIN:VEVENT
DTSTART:20250301T150000Z
DTEND:20250301T190000Z
X-MICROSOFT-CDO-ALLDAYEVENT:FALSE
SUMMARY:Come to Family Day and See INSIDE GSSM
DESCRIPTION:The South Carolina Governor's School for Science & Mathematics (GSSM) invites families from across the state to experience a day of imagination\, inspiration\, and innovation at INSIDE GSSM. This free annual event will take place on March 1 from 10 a.m. to 2 p.m.\, offering young students and their families an exciting opportunity to explore STEM and beyond through interactive activities led by GSSM students\, faculty\, and staff. \n\n\n\nINSIDE GSSM provides a hands-on approach to learning\, featuring robotics\, rockets\, artificial intelligence\, foreign languages\, and engaging science and math experiments. Attendees can also enjoy liquid nitrogen ice cream\, slime-making\, crepes\, and more. Additionally\, families will have the chance to take part in scavenger hunts and student-led tours\, providing a unique glimpse into life at one of the nation's premier residential public high schools. \n\n\n\nINSIDE GSSM is open to families statewide\, and all activities are free. Click here to learn more about the event and to register. To learn more about GSSM and its programs\, visit scgssm.org.
X-ALT-DESC;FMTTYPE=text/html:<div>\n<p><span style="color:windowtext\; font-family:times new roman\,times new roman_embeddedfont\,times new roman_msfontservice\,serif\; font-size:12pt">The South Carolina Governor&rsquo\;s School for Science &amp\; Mathematics (GSSM) invites families from across the state to experience a day of imagination\, inspiration\, and innovation at </span><strong>INSIDE GSSM</strong><span style="color:windowtext\; font-family:times new roman\,times new roman_embeddedfont\,times new roman_msfontservice\,serif\; font-size:12pt">. This </span><strong>free</strong><span style="color:windowtext\; font-family:times new roman\,times new roman_embeddedfont\,times new roman_msfontservice\,serif\; font-size:12pt"> annual event will take place on </span><strong>March 1 from 10 a.m. to 2 p.m.</strong><span style="color:windowtext\; font-family:times new roman\,times new roman_embeddedfont\,times new roman_msfontservice\,serif\; font-size:12pt">\, offering young students and their families an exciting opportunity to explore STEM and beyond through interactive activities led by GSSM students\, faculty\, and staff.</span><span style="color:windowtext\; font-family:times new roman\,times new roman_embeddedfont\,times new roman_msfontservice\,serif\; font-size:12pt">&nbsp\;</span></p>\n</div>\n\n<div>\n<p><span style="color:windowtext\; font-family:times new roman\,times new roman_embeddedfont\,times new roman_msfontservice\,serif\; font-size:12pt">INSIDE GSSM provides a hands-on approach to learning\, featuring </span><strong>robotics\, rockets\, artificial intelligence\, foreign languages\, and engaging science and math experiments</strong><span style="color:windowtext\; font-family:times new roman\,times new roman_embeddedfont\,times new roman_msfontservice\,serif\; font-size:12pt">. Attendees can also enjoy </span><strong>liquid nitrogen ice cream\, slime-making\, crepes</strong><span style="color:windowtext\; font-family:times new roman\,times new roman_embeddedfont\,times new roman_msfontservice\,serif\; font-size:12pt">\, and more. Additionally\, families will have the chance to take part in </span><strong>scavenger hunts and student-led tours</strong><span style="color:windowtext\; font-family:times new roman\,times new roman_embeddedfont\,times new roman_msfontservice\,serif\; font-size:12pt">\, providing a unique glimpse into life at one of the nation&rsquo\;s premier residential public high schools.</span><span style="color:windowtext\; font-family:times new roman\,times new roman_embeddedfont\,times new roman_msfontservice\,serif\; font-size:12pt">&nbsp\;</span><br />\n<br />\n<span style="color:windowtext\; font-family:times new roman\,times new roman_embeddedfont\,times new roman_msfontservice\,serif\; font-size:12pt">INSIDE GSSM is open to families statewide\, and all activities are </span><strong>free</strong><span style="color:windowtext\; font-family:times new roman\,times new roman_embeddedfont\,times new roman_msfontservice\,serif\; font-size:12pt">. </span><a class="Hyperlink SCXW213120698 BCX0" href="https://www.scgssm.org/outreach-stem-opportunities/inside-gssm-family-day" rel="noreferrer noopener" style="-webkit-user-drag: none\; -webkit-tap-highlight-color: transparent\; margin: 0px\; padding: 0px\; user-select: text\; font-family: &quot\;Segoe UI&quot\;\, &quot\;Segoe UI Web&quot\;\, Arial\, Verdana\, sans-serif\; font-size: 12px\; white-space-collapse: preserve\; text-decoration-line: none\; color: inherit\;" target="_blank"><span style="color:rgb(0\, 0\, 255)\; font-family:times new roman\,times new roman_embeddedfont\,times new roman_msfontservice\,serif\; font-size:12pt">Click here</span></a><span style="color:windowtext\; font-family:times new roman\,times new roman_embeddedfont\,times new roman_msfontservice\,serif\; font-size:12pt"> to learn more about the event and to register. To learn more about GSSM and its programs\, visit </span><a href="https://www.scgssm.org/"><strong>scgssm.org</strong></a><span style="color:windowtext\; font-family:times new roman\,times new roman_embeddedfont\,times new roman_msfontservice\,serif\; font-size:12pt">.</span><span style="color:windowtext\; font-family:times new roman\,times new roman_embeddedfont\,times new roman_msfontservice\,serif\; font-size:12pt">&nbsp\;</span></p>\n</div>\n
LOCATION:SC Governor's School for Science & Mathematics 401 Railroad Avenue Hartsville\, SC 29550
UID:e.2045.3270
SEQUENCE:3
DTSTAMP:20260424T202238Z
URL:https://www.hartsvillechamber.org/events/details/come-to-family-day-and-see-inside-gssm-3270
END:VEVENT

END:VCALENDAR
